BEGIN:VCALENDAR
VERSION:2.0
PRODID:-//Soziokulturelles Zentrum e.V. - ECPv6.15.20//NONSGML v1.0//EN
CALSCALE:GREGORIAN
METHOD:PUBLISH
X-ORIGINAL-URL:https://soziokulturelles-zentrum.de
X-WR-CALDESC:Veranstaltungen für Soziokulturelles Zentrum e.V.
REFRESH-INTERVAL;VALUE=DURATION:PT1H
X-Robots-Tag:noindex
X-PUBLISHED-TTL:PT1H
BEGIN:VTIMEZONE
TZID:Europe/Berlin
BEGIN:DAYLIGHT
TZOFFSETFROM:+0100
TZOFFSETTO:+0200
TZNAME:CEST
DTSTART:20240331T010000
END:DAYLIGHT
BEGIN:STANDARD
TZOFFSETFROM:+0200
TZOFFSETTO:+0100
TZNAME:CET
DTSTART:20241027T010000
END:STANDARD
BEGIN:DAYLIGHT
TZOFFSETFROM:+0100
TZOFFSETTO:+0200
TZNAME:CEST
DTSTART:20250330T010000
END:DAYLIGHT
BEGIN:STANDARD
TZOFFSETFROM:+0200
TZOFFSETTO:+0100
TZNAME:CET
DTSTART:20251026T010000
END:STANDARD
BEGIN:DAYLIGHT
TZOFFSETFROM:+0100
TZOFFSETTO:+0200
TZNAME:CEST
DTSTART:20260329T010000
END:DAYLIGHT
BEGIN:STANDARD
TZOFFSETFROM:+0200
TZOFFSETTO:+0100
TZNAME:CET
DTSTART:20261025T010000
END:STANDARD
BEGIN:DAYLIGHT
TZOFFSETFROM:+0100
TZOFFSETTO:+0200
TZNAME:CEST
DTSTART:20270328T010000
END:DAYLIGHT
BEGIN:STANDARD
TZOFFSETFROM:+0200
TZOFFSETTO:+0100
TZNAME:CET
DTSTART:20271031T010000
END:STANDARD
END:VTIMEZONE
BEGIN:VEVENT
DTSTART;TZID=Europe/Berlin:20260120T153000
DTEND;TZID=Europe/Berlin:20260120T173000
DTSTAMP:20260423T121440
CREATED:20251126T103647Z
LAST-MODIFIED:20251126T103647Z
UID:10002776-1768923000-1768930200@soziokulturelles-zentrum.de
SUMMARY:Malkurs
DESCRIPTION:
URL:https://soziokulturelles-zentrum.de/event/malkurs-3/2026-01-20/
LOCATION:Schulungsraum\, Kosebruchweg 14\, Delitzsch\, Sachsen\, 04509\, Deutschland
CATEGORIES:Kurse / Workshops
ATTACH;FMTTYPE=image/webp:https://soziokulturelles-zentrum.de/wp-content/uploads/2025/11/Malkurs-0126_11zon.webp
END:VEVENT
BEGIN:VEVENT
DTSTART;TZID=Europe/Berlin:20260106T153000
DTEND;TZID=Europe/Berlin:20260106T173000
DTSTAMP:20260423T121440
CREATED:20251126T103647Z
LAST-MODIFIED:20251126T103647Z
UID:10002775-1767713400-1767720600@soziokulturelles-zentrum.de
SUMMARY:Malkurs
DESCRIPTION:
URL:https://soziokulturelles-zentrum.de/event/malkurs-3/2026-01-06/
LOCATION:Schulungsraum\, Kosebruchweg 14\, Delitzsch\, Sachsen\, 04509\, Deutschland
CATEGORIES:Kurse / Workshops
ATTACH;FMTTYPE=image/webp:https://soziokulturelles-zentrum.de/wp-content/uploads/2025/11/Malkurs-0126_11zon.webp
END:VEVENT
BEGIN:VEVENT
DTSTART;TZID=Europe/Berlin:20251218T090000
DTEND;TZID=Europe/Berlin:20251218T120000
DTSTAMP:20260423T121440
CREATED:20250320T093908Z
LAST-MODIFIED:20250320T103336Z
UID:10001695-1766048400-1766059200@soziokulturelles-zentrum.de
SUMMARY:Individuelle Hilfe für Smartphone & Tablet
DESCRIPTION:
URL:https://soziokulturelles-zentrum.de/event/individuelle-hilfe-fuer-smartphone-tablet/2025-12-18/
LOCATION:Schulungsraum\, Kosebruchweg 14\, Delitzsch\, Sachsen\, 04509\, Deutschland
CATEGORIES:DigitalPaktAlter
ATTACH;FMTTYPE=image/jpeg:https://soziokulturelles-zentrum.de/wp-content/uploads/2025/03/IT-PC-Kurs.jpg
END:VEVENT
BEGIN:VEVENT
DTSTART;TZID=Europe/Berlin:20251213T080000
DTEND;TZID=Europe/Berlin:20251213T160000
DTSTAMP:20260423T121440
CREATED:20251017T064449Z
LAST-MODIFIED:20251017T064519Z
UID:10002746-1765612800-1765641600@soziokulturelles-zentrum.de
SUMMARY:Erste Hilfe Kurs mit Zulassung für Führerschein
DESCRIPTION:Erste Hilfe Kurs mit Zulassung für Führerschein\ngemäß § 19 Fahrerlaubnis-Verordnung \nInhalte:\n– Eigenschutz & Absicherung der Unfallstelle\n– Notruf 112 und Rettungskette\n– Bewusstlosigkeit & stabile Seitenlage\n– Herz-Lungen-Wiederbelebung (HLW) mit AED\n– Versorgung von Blutungen\, Wunden und Schock\n– Erste Hilfe bei Knochenbrüchen\, Verbrennungen & Erkrankungen\n– Verkehrsunfall-Simulation mit praktischen Übungen \nOrt der Schulung: Kosebruchweg 14\, 04509 Delitzsch
URL:https://soziokulturelles-zentrum.de/event/erste-hilfe-kurs-mit-zulassung-fuer-fuehrerschein/2025-12-13/
LOCATION:Schulungsraum\, Kosebruchweg 14\, Delitzsch\, Sachsen\, 04509\, Deutschland
CATEGORIES:Kurse / Workshops
ATTACH;FMTTYPE=image/webp:https://soziokulturelles-zentrum.de/wp-content/uploads/2025/10/ErsteHilfeBmS.webp
ORGANIZER;CN="Bildung mit Service UG":MAILTO:info@bildung-service.com
END:VEVENT
BEGIN:VEVENT
DTSTART;TZID=Europe/Berlin:20251210T160000
DTEND;TZID=Europe/Berlin:20251210T183000
DTSTAMP:20260423T121440
CREATED:20250623T074119Z
LAST-MODIFIED:20250623T074119Z
UID:10002161-1765382400-1765391400@soziokulturelles-zentrum.de
SUMMARY:Mein Leben\, meine Stimme
DESCRIPTION:
URL:https://soziokulturelles-zentrum.de/event/mein-leben-meine-stimme/2025-12-10/
LOCATION:Schulungsraum\, Kosebruchweg 14\, Delitzsch\, Sachsen\, 04509\, Deutschland
CATEGORIES:Kurse / Workshops,Nachrichtenwerkstatt
ATTACH;FMTTYPE=image/webp:https://soziokulturelles-zentrum.de/wp-content/uploads/2025/06/3-scaled.webp
END:VEVENT
BEGIN:VEVENT
DTSTART;TZID=Europe/Berlin:20251204T090000
DTEND;TZID=Europe/Berlin:20251204T120000
DTSTAMP:20260423T121440
CREATED:20250320T093908Z
LAST-MODIFIED:20250320T103336Z
UID:10001694-1764838800-1764849600@soziokulturelles-zentrum.de
SUMMARY:Individuelle Hilfe für Smartphone & Tablet
DESCRIPTION:
URL:https://soziokulturelles-zentrum.de/event/individuelle-hilfe-fuer-smartphone-tablet/2025-12-04/
LOCATION:Schulungsraum\, Kosebruchweg 14\, Delitzsch\, Sachsen\, 04509\, Deutschland
CATEGORIES:DigitalPaktAlter
ATTACH;FMTTYPE=image/jpeg:https://soziokulturelles-zentrum.de/wp-content/uploads/2025/03/IT-PC-Kurs.jpg
END:VEVENT
BEGIN:VEVENT
DTSTART;TZID=Europe/Berlin:20251129T080000
DTEND;TZID=Europe/Berlin:20251129T160000
DTSTAMP:20260423T121440
CREATED:20251017T064449Z
LAST-MODIFIED:20251017T064519Z
UID:10002745-1764403200-1764432000@soziokulturelles-zentrum.de
SUMMARY:Erste Hilfe Kurs mit Zulassung für Führerschein
DESCRIPTION:Erste Hilfe Kurs mit Zulassung für Führerschein\ngemäß § 19 Fahrerlaubnis-Verordnung \nInhalte:\n– Eigenschutz & Absicherung der Unfallstelle\n– Notruf 112 und Rettungskette\n– Bewusstlosigkeit & stabile Seitenlage\n– Herz-Lungen-Wiederbelebung (HLW) mit AED\n– Versorgung von Blutungen\, Wunden und Schock\n– Erste Hilfe bei Knochenbrüchen\, Verbrennungen & Erkrankungen\n– Verkehrsunfall-Simulation mit praktischen Übungen \nOrt der Schulung: Kosebruchweg 14\, 04509 Delitzsch
URL:https://soziokulturelles-zentrum.de/event/erste-hilfe-kurs-mit-zulassung-fuer-fuehrerschein/2025-11-29/
LOCATION:Schulungsraum\, Kosebruchweg 14\, Delitzsch\, Sachsen\, 04509\, Deutschland
CATEGORIES:Kurse / Workshops
ATTACH;FMTTYPE=image/webp:https://soziokulturelles-zentrum.de/wp-content/uploads/2025/10/ErsteHilfeBmS.webp
ORGANIZER;CN="Bildung mit Service UG":MAILTO:info@bildung-service.com
END:VEVENT
BEGIN:VEVENT
DTSTART;TZID=Europe/Berlin:20251120T090000
DTEND;TZID=Europe/Berlin:20251120T120000
DTSTAMP:20260423T121440
CREATED:20250320T093908Z
LAST-MODIFIED:20250320T103336Z
UID:10001693-1763629200-1763640000@soziokulturelles-zentrum.de
SUMMARY:Individuelle Hilfe für Smartphone & Tablet
DESCRIPTION:
URL:https://soziokulturelles-zentrum.de/event/individuelle-hilfe-fuer-smartphone-tablet/2025-11-20/
LOCATION:Schulungsraum\, Kosebruchweg 14\, Delitzsch\, Sachsen\, 04509\, Deutschland
CATEGORIES:DigitalPaktAlter
ATTACH;FMTTYPE=image/jpeg:https://soziokulturelles-zentrum.de/wp-content/uploads/2025/03/IT-PC-Kurs.jpg
END:VEVENT
BEGIN:VEVENT
DTSTART;TZID=Europe/Berlin:20251112T160000
DTEND;TZID=Europe/Berlin:20251112T183000
DTSTAMP:20260423T121440
CREATED:20250623T074119Z
LAST-MODIFIED:20250623T074119Z
UID:10002160-1762963200-1762972200@soziokulturelles-zentrum.de
SUMMARY:Mein Leben\, meine Stimme
DESCRIPTION:
URL:https://soziokulturelles-zentrum.de/event/mein-leben-meine-stimme/2025-11-12/
LOCATION:Schulungsraum\, Kosebruchweg 14\, Delitzsch\, Sachsen\, 04509\, Deutschland
CATEGORIES:Kurse / Workshops,Nachrichtenwerkstatt
ATTACH;FMTTYPE=image/webp:https://soziokulturelles-zentrum.de/wp-content/uploads/2025/06/3-scaled.webp
END:VEVENT
BEGIN:VEVENT
DTSTART;TZID=Europe/Berlin:20251106T090000
DTEND;TZID=Europe/Berlin:20251106T120000
DTSTAMP:20260423T121440
CREATED:20250320T093908Z
LAST-MODIFIED:20250320T103336Z
UID:10001692-1762419600-1762430400@soziokulturelles-zentrum.de
SUMMARY:Individuelle Hilfe für Smartphone & Tablet
DESCRIPTION:
URL:https://soziokulturelles-zentrum.de/event/individuelle-hilfe-fuer-smartphone-tablet/2025-11-06/
LOCATION:Schulungsraum\, Kosebruchweg 14\, Delitzsch\, Sachsen\, 04509\, Deutschland
CATEGORIES:DigitalPaktAlter
ATTACH;FMTTYPE=image/jpeg:https://soziokulturelles-zentrum.de/wp-content/uploads/2025/03/IT-PC-Kurs.jpg
END:VEVENT
BEGIN:VEVENT
DTSTART;TZID=Europe/Berlin:20251023T090000
DTEND;TZID=Europe/Berlin:20251023T120000
DTSTAMP:20260423T121440
CREATED:20250320T093908Z
LAST-MODIFIED:20250320T103336Z
UID:10001691-1761210000-1761220800@soziokulturelles-zentrum.de
SUMMARY:Individuelle Hilfe für Smartphone & Tablet
DESCRIPTION:
URL:https://soziokulturelles-zentrum.de/event/individuelle-hilfe-fuer-smartphone-tablet/2025-10-23/
LOCATION:Schulungsraum\, Kosebruchweg 14\, Delitzsch\, Sachsen\, 04509\, Deutschland
CATEGORIES:DigitalPaktAlter
ATTACH;FMTTYPE=image/jpeg:https://soziokulturelles-zentrum.de/wp-content/uploads/2025/03/IT-PC-Kurs.jpg
END:VEVENT
BEGIN:VEVENT
DTSTART;TZID=Europe/Berlin:20251017T093000
DTEND;TZID=Europe/Berlin:20251017T130000
DTSTAMP:20260423T121440
CREATED:20250623T073740Z
LAST-MODIFIED:20250623T073805Z
UID:10002157-1760693400-1760706000@soziokulturelles-zentrum.de
SUMMARY:Bildgenerierung mit KI
DESCRIPTION:
URL:https://soziokulturelles-zentrum.de/event/bildgenerierung-mit-ki/
LOCATION:Schulungsraum\, Kosebruchweg 14\, Delitzsch\, Sachsen\, 04509\, Deutschland
CATEGORIES:Kurse / Workshops,Nachrichtenwerkstatt
ATTACH;FMTTYPE=image/webp:https://soziokulturelles-zentrum.de/wp-content/uploads/2025/06/1-scaled.webp
END:VEVENT
BEGIN:VEVENT
DTSTART;TZID=Europe/Berlin:20251015T093000
DTEND;TZID=Europe/Berlin:20251015T130000
DTSTAMP:20260423T121440
CREATED:20250623T073903Z
LAST-MODIFIED:20250623T073903Z
UID:10002158-1760520600-1760533200@soziokulturelles-zentrum.de
SUMMARY:KI trifft Minecraft
DESCRIPTION:
URL:https://soziokulturelles-zentrum.de/event/ki-trifft-minecraft/
LOCATION:Schulungsraum\, Kosebruchweg 14\, Delitzsch\, Sachsen\, 04509\, Deutschland
CATEGORIES:Kurse / Workshops,Nachrichtenwerkstatt
ATTACH;FMTTYPE=image/webp:https://soziokulturelles-zentrum.de/wp-content/uploads/2025/06/2-scaled.webp
END:VEVENT
BEGIN:VEVENT
DTSTART;TZID=Europe/Berlin:20251009T090000
DTEND;TZID=Europe/Berlin:20251009T120000
DTSTAMP:20260423T121440
CREATED:20250320T093908Z
LAST-MODIFIED:20250320T103336Z
UID:10001690-1760000400-1760011200@soziokulturelles-zentrum.de
SUMMARY:Individuelle Hilfe für Smartphone & Tablet
DESCRIPTION:
URL:https://soziokulturelles-zentrum.de/event/individuelle-hilfe-fuer-smartphone-tablet/2025-10-09/
LOCATION:Schulungsraum\, Kosebruchweg 14\, Delitzsch\, Sachsen\, 04509\, Deutschland
CATEGORIES:DigitalPaktAlter
ATTACH;FMTTYPE=image/jpeg:https://soziokulturelles-zentrum.de/wp-content/uploads/2025/03/IT-PC-Kurs.jpg
END:VEVENT
BEGIN:VEVENT
DTSTART;TZID=Europe/Berlin:20250925T090000
DTEND;TZID=Europe/Berlin:20250925T120000
DTSTAMP:20260423T121440
CREATED:20250320T093908Z
LAST-MODIFIED:20250320T103336Z
UID:10001689-1758790800-1758801600@soziokulturelles-zentrum.de
SUMMARY:Individuelle Hilfe für Smartphone & Tablet
DESCRIPTION:
URL:https://soziokulturelles-zentrum.de/event/individuelle-hilfe-fuer-smartphone-tablet/2025-09-25/
LOCATION:Schulungsraum\, Kosebruchweg 14\, Delitzsch\, Sachsen\, 04509\, Deutschland
CATEGORIES:DigitalPaktAlter
ATTACH;FMTTYPE=image/jpeg:https://soziokulturelles-zentrum.de/wp-content/uploads/2025/03/IT-PC-Kurs.jpg
END:VEVENT
BEGIN:VEVENT
DTSTART;TZID=Europe/Berlin:20250911T090000
DTEND;TZID=Europe/Berlin:20250911T120000
DTSTAMP:20260423T121440
CREATED:20250320T093908Z
LAST-MODIFIED:20250320T103336Z
UID:10001688-1757581200-1757592000@soziokulturelles-zentrum.de
SUMMARY:Individuelle Hilfe für Smartphone & Tablet
DESCRIPTION:
URL:https://soziokulturelles-zentrum.de/event/individuelle-hilfe-fuer-smartphone-tablet/2025-09-11/
LOCATION:Schulungsraum\, Kosebruchweg 14\, Delitzsch\, Sachsen\, 04509\, Deutschland
CATEGORIES:DigitalPaktAlter
ATTACH;FMTTYPE=image/jpeg:https://soziokulturelles-zentrum.de/wp-content/uploads/2025/03/IT-PC-Kurs.jpg
END:VEVENT
BEGIN:VEVENT
DTSTART;TZID=Europe/Berlin:20250828T090000
DTEND;TZID=Europe/Berlin:20250828T120000
DTSTAMP:20260423T121440
CREATED:20250320T093908Z
LAST-MODIFIED:20250320T103336Z
UID:10001687-1756371600-1756382400@soziokulturelles-zentrum.de
SUMMARY:Individuelle Hilfe für Smartphone & Tablet
DESCRIPTION:
URL:https://soziokulturelles-zentrum.de/event/individuelle-hilfe-fuer-smartphone-tablet/2025-08-28/
LOCATION:Schulungsraum\, Kosebruchweg 14\, Delitzsch\, Sachsen\, 04509\, Deutschland
CATEGORIES:DigitalPaktAlter
ATTACH;FMTTYPE=image/jpeg:https://soziokulturelles-zentrum.de/wp-content/uploads/2025/03/IT-PC-Kurs.jpg
END:VEVENT
BEGIN:VEVENT
DTSTART;TZID=Europe/Berlin:20250814T090000
DTEND;TZID=Europe/Berlin:20250814T120000
DTSTAMP:20260423T121440
CREATED:20250320T093908Z
LAST-MODIFIED:20250320T103336Z
UID:10001686-1755162000-1755172800@soziokulturelles-zentrum.de
SUMMARY:Individuelle Hilfe für Smartphone & Tablet
DESCRIPTION:
URL:https://soziokulturelles-zentrum.de/event/individuelle-hilfe-fuer-smartphone-tablet/2025-08-14/
LOCATION:Schulungsraum\, Kosebruchweg 14\, Delitzsch\, Sachsen\, 04509\, Deutschland
CATEGORIES:DigitalPaktAlter
ATTACH;FMTTYPE=image/jpeg:https://soziokulturelles-zentrum.de/wp-content/uploads/2025/03/IT-PC-Kurs.jpg
END:VEVENT
BEGIN:VEVENT
DTSTART;TZID=Europe/Berlin:20250731T090000
DTEND;TZID=Europe/Berlin:20250731T120000
DTSTAMP:20260423T121440
CREATED:20250320T093908Z
LAST-MODIFIED:20250320T103336Z
UID:10001685-1753952400-1753963200@soziokulturelles-zentrum.de
SUMMARY:Individuelle Hilfe für Smartphone & Tablet
DESCRIPTION:
URL:https://soziokulturelles-zentrum.de/event/individuelle-hilfe-fuer-smartphone-tablet/2025-07-31/
LOCATION:Schulungsraum\, Kosebruchweg 14\, Delitzsch\, Sachsen\, 04509\, Deutschland
CATEGORIES:DigitalPaktAlter
ATTACH;FMTTYPE=image/jpeg:https://soziokulturelles-zentrum.de/wp-content/uploads/2025/03/IT-PC-Kurs.jpg
END:VEVENT
BEGIN:VEVENT
DTSTART;TZID=Europe/Berlin:20250717T090000
DTEND;TZID=Europe/Berlin:20250717T120000
DTSTAMP:20260423T121440
CREATED:20250320T093908Z
LAST-MODIFIED:20250320T103336Z
UID:10001684-1752742800-1752753600@soziokulturelles-zentrum.de
SUMMARY:Individuelle Hilfe für Smartphone & Tablet
DESCRIPTION:
URL:https://soziokulturelles-zentrum.de/event/individuelle-hilfe-fuer-smartphone-tablet/2025-07-17/
LOCATION:Schulungsraum\, Kosebruchweg 14\, Delitzsch\, Sachsen\, 04509\, Deutschland
CATEGORIES:DigitalPaktAlter
ATTACH;FMTTYPE=image/jpeg:https://soziokulturelles-zentrum.de/wp-content/uploads/2025/03/IT-PC-Kurs.jpg
END:VEVENT
BEGIN:VEVENT
DTSTART;TZID=Europe/Berlin:20250703T090000
DTEND;TZID=Europe/Berlin:20250703T120000
DTSTAMP:20260423T121440
CREATED:20250320T093908Z
LAST-MODIFIED:20250320T103336Z
UID:10001683-1751533200-1751544000@soziokulturelles-zentrum.de
SUMMARY:Individuelle Hilfe für Smartphone & Tablet
DESCRIPTION:
URL:https://soziokulturelles-zentrum.de/event/individuelle-hilfe-fuer-smartphone-tablet/2025-07-03/
LOCATION:Schulungsraum\, Kosebruchweg 14\, Delitzsch\, Sachsen\, 04509\, Deutschland
CATEGORIES:DigitalPaktAlter
ATTACH;FMTTYPE=image/jpeg:https://soziokulturelles-zentrum.de/wp-content/uploads/2025/03/IT-PC-Kurs.jpg
END:VEVENT
BEGIN:VEVENT
DTSTART;TZID=Europe/Berlin:20250619T090000
DTEND;TZID=Europe/Berlin:20250619T120000
DTSTAMP:20260423T121440
CREATED:20250320T093908Z
LAST-MODIFIED:20250320T103336Z
UID:10001682-1750323600-1750334400@soziokulturelles-zentrum.de
SUMMARY:Individuelle Hilfe für Smartphone & Tablet
DESCRIPTION:
URL:https://soziokulturelles-zentrum.de/event/individuelle-hilfe-fuer-smartphone-tablet/2025-06-19/
LOCATION:Schulungsraum\, Kosebruchweg 14\, Delitzsch\, Sachsen\, 04509\, Deutschland
CATEGORIES:DigitalPaktAlter
ATTACH;FMTTYPE=image/jpeg:https://soziokulturelles-zentrum.de/wp-content/uploads/2025/03/IT-PC-Kurs.jpg
END:VEVENT
BEGIN:VEVENT
DTSTART;TZID=Europe/Berlin:20250605T090000
DTEND;TZID=Europe/Berlin:20250605T120000
DTSTAMP:20260423T121440
CREATED:20250320T093908Z
LAST-MODIFIED:20250320T103336Z
UID:10001681-1749114000-1749124800@soziokulturelles-zentrum.de
SUMMARY:Individuelle Hilfe für Smartphone & Tablet
DESCRIPTION:
URL:https://soziokulturelles-zentrum.de/event/individuelle-hilfe-fuer-smartphone-tablet/2025-06-05/
LOCATION:Schulungsraum\, Kosebruchweg 14\, Delitzsch\, Sachsen\, 04509\, Deutschland
CATEGORIES:DigitalPaktAlter
ATTACH;FMTTYPE=image/jpeg:https://soziokulturelles-zentrum.de/wp-content/uploads/2025/03/IT-PC-Kurs.jpg
END:VEVENT
BEGIN:VEVENT
DTSTART;TZID=Europe/Berlin:20250522T090000
DTEND;TZID=Europe/Berlin:20250522T120000
DTSTAMP:20260423T121440
CREATED:20250320T093908Z
LAST-MODIFIED:20250320T103336Z
UID:10001680-1747904400-1747915200@soziokulturelles-zentrum.de
SUMMARY:Individuelle Hilfe für Smartphone & Tablet
DESCRIPTION:
URL:https://soziokulturelles-zentrum.de/event/individuelle-hilfe-fuer-smartphone-tablet/2025-05-22/
LOCATION:Schulungsraum\, Kosebruchweg 14\, Delitzsch\, Sachsen\, 04509\, Deutschland
CATEGORIES:DigitalPaktAlter
ATTACH;FMTTYPE=image/jpeg:https://soziokulturelles-zentrum.de/wp-content/uploads/2025/03/IT-PC-Kurs.jpg
END:VEVENT
BEGIN:VEVENT
DTSTART;TZID=Europe/Berlin:20250508T140000
DTEND;TZID=Europe/Berlin:20250508T160000
DTSTAMP:20260423T121440
CREATED:20241024T125001Z
LAST-MODIFIED:20250603T122637Z
UID:10001673-1746712800-1746720000@soziokulturelles-zentrum.de
SUMMARY:Malkurs
DESCRIPTION:Erleben Sie eine interessante Einführung in Pinsel- und Maltechniken. Schritt für Schritt lernen Sie von der erfahrenen Künstlerin Helga Rebner Techniken der Acryl- und Aquarellmalerei.
URL:https://soziokulturelles-zentrum.de/event/malkurs-2/2025-05-08/
LOCATION:Schulungsraum\, Kosebruchweg 14\, Delitzsch\, Sachsen\, 04509\, Deutschland
CATEGORIES:Kurse / Workshops
ATTACH;FMTTYPE=image/png:https://soziokulturelles-zentrum.de/wp-content/uploads/2025/03/Malkurs-Termine.png
END:VEVENT
BEGIN:VEVENT
DTSTART;TZID=Europe/Berlin:20250508T090000
DTEND;TZID=Europe/Berlin:20250508T120000
DTSTAMP:20260423T121440
CREATED:20250320T093908Z
LAST-MODIFIED:20250320T103336Z
UID:10001679-1746694800-1746705600@soziokulturelles-zentrum.de
SUMMARY:Individuelle Hilfe für Smartphone & Tablet
DESCRIPTION:
URL:https://soziokulturelles-zentrum.de/event/individuelle-hilfe-fuer-smartphone-tablet/2025-05-08/
LOCATION:Schulungsraum\, Kosebruchweg 14\, Delitzsch\, Sachsen\, 04509\, Deutschland
CATEGORIES:DigitalPaktAlter
ATTACH;FMTTYPE=image/jpeg:https://soziokulturelles-zentrum.de/wp-content/uploads/2025/03/IT-PC-Kurs.jpg
END:VEVENT
BEGIN:VEVENT
DTSTART;TZID=Europe/Berlin:20250424T090000
DTEND;TZID=Europe/Berlin:20250424T120000
DTSTAMP:20260423T121440
CREATED:20250320T093908Z
LAST-MODIFIED:20250320T103336Z
UID:10001678-1745485200-1745496000@soziokulturelles-zentrum.de
SUMMARY:Individuelle Hilfe für Smartphone & Tablet
DESCRIPTION:
URL:https://soziokulturelles-zentrum.de/event/individuelle-hilfe-fuer-smartphone-tablet/2025-04-24/
LOCATION:Schulungsraum\, Kosebruchweg 14\, Delitzsch\, Sachsen\, 04509\, Deutschland
CATEGORIES:DigitalPaktAlter
ATTACH;FMTTYPE=image/jpeg:https://soziokulturelles-zentrum.de/wp-content/uploads/2025/03/IT-PC-Kurs.jpg
END:VEVENT
BEGIN:VEVENT
DTSTART;TZID=Europe/Berlin:20250410T140000
DTEND;TZID=Europe/Berlin:20250410T160000
DTSTAMP:20260423T121440
CREATED:20241024T125001Z
LAST-MODIFIED:20250603T122637Z
UID:10001276-1744293600-1744300800@soziokulturelles-zentrum.de
SUMMARY:Malkurs
DESCRIPTION:Erleben Sie eine interessante Einführung in Pinsel- und Maltechniken. Schritt für Schritt lernen Sie von der erfahrenen Künstlerin Helga Rebner Techniken der Acryl- und Aquarellmalerei.
URL:https://soziokulturelles-zentrum.de/event/malkurs-2/2025-04-10/
LOCATION:Schulungsraum\, Kosebruchweg 14\, Delitzsch\, Sachsen\, 04509\, Deutschland
CATEGORIES:Kurse / Workshops
ATTACH;FMTTYPE=image/png:https://soziokulturelles-zentrum.de/wp-content/uploads/2025/03/Malkurs-Termine.png
END:VEVENT
BEGIN:VEVENT
DTSTART;TZID=Europe/Berlin:20250410T090000
DTEND;TZID=Europe/Berlin:20250410T120000
DTSTAMP:20260423T121440
CREATED:20250320T093908Z
LAST-MODIFIED:20250320T103336Z
UID:10001677-1744275600-1744286400@soziokulturelles-zentrum.de
SUMMARY:Individuelle Hilfe für Smartphone & Tablet
DESCRIPTION:
URL:https://soziokulturelles-zentrum.de/event/individuelle-hilfe-fuer-smartphone-tablet/2025-04-10/
LOCATION:Schulungsraum\, Kosebruchweg 14\, Delitzsch\, Sachsen\, 04509\, Deutschland
CATEGORIES:DigitalPaktAlter
ATTACH;FMTTYPE=image/jpeg:https://soziokulturelles-zentrum.de/wp-content/uploads/2025/03/IT-PC-Kurs.jpg
END:VEVENT
BEGIN:VEVENT
DTSTART;TZID=Europe/Berlin:20250313T140000
DTEND;TZID=Europe/Berlin:20250313T160000
DTSTAMP:20260423T121440
CREATED:20241024T125001Z
LAST-MODIFIED:20250603T122637Z
UID:10001275-1741874400-1741881600@soziokulturelles-zentrum.de
SUMMARY:Malkurs
DESCRIPTION:Erleben Sie eine interessante Einführung in Pinsel- und Maltechniken. Schritt für Schritt lernen Sie von der erfahrenen Künstlerin Helga Rebner Techniken der Acryl- und Aquarellmalerei.
URL:https://soziokulturelles-zentrum.de/event/malkurs-2/2025-03-13/
LOCATION:Schulungsraum\, Kosebruchweg 14\, Delitzsch\, Sachsen\, 04509\, Deutschland
CATEGORIES:Kurse / Workshops
ATTACH;FMTTYPE=image/png:https://soziokulturelles-zentrum.de/wp-content/uploads/2025/03/Malkurs-Termine.png
END:VEVENT
END:VCALENDAR