BEGIN:VCALENDAR
VERSION:2.0
PRODID:-//Soziokulturelles Zentrum e.V. - ECPv6.15.20//NONSGML v1.0//EN
CALSCALE:GREGORIAN
METHOD:PUBLISH
X-ORIGINAL-URL:https://soziokulturelles-zentrum.de
X-WR-CALDESC:Veranstaltungen für Soziokulturelles Zentrum e.V.
REFRESH-INTERVAL;VALUE=DURATION:PT1H
X-Robots-Tag:noindex
X-PUBLISHED-TTL:PT1H
BEGIN:VTIMEZONE
TZID:Europe/Berlin
BEGIN:DAYLIGHT
TZOFFSETFROM:+0100
TZOFFSETTO:+0200
TZNAME:CEST
DTSTART:20260329T010000
END:DAYLIGHT
BEGIN:STANDARD
TZOFFSETFROM:+0200
TZOFFSETTO:+0100
TZNAME:CET
DTSTART:20261025T010000
END:STANDARD
BEGIN:DAYLIGHT
TZOFFSETFROM:+0100
TZOFFSETTO:+0200
TZNAME:CEST
DTSTART:20270328T010000
END:DAYLIGHT
BEGIN:STANDARD
TZOFFSETFROM:+0200
TZOFFSETTO:+0100
TZNAME:CET
DTSTART:20271031T010000
END:STANDARD
BEGIN:DAYLIGHT
TZOFFSETFROM:+0100
TZOFFSETTO:+0200
TZNAME:CEST
DTSTART:20280326T010000
END:DAYLIGHT
BEGIN:STANDARD
TZOFFSETFROM:+0200
TZOFFSETTO:+0100
TZNAME:CET
DTSTART:20281029T010000
END:STANDARD
END:VTIMEZONE
BEGIN:VEVENT
DTSTART;TZID=Europe/Berlin:20270607T160000
DTEND;TZID=Europe/Berlin:20270607T170000
DTSTAMP:20260425T143159
CREATED:20250701T090619Z
LAST-MODIFIED:20250701T090619Z
UID:10002262-1812384000-1812387600@soziokulturelles-zentrum.de
SUMMARY:Yoga-Kurs
DESCRIPTION:montags\, 09:45 – 10:45 Uhr & 16:00 – 17:00 Uhr
URL:https://soziokulturelles-zentrum.de/event/hatha-yoga-2/2027-06-07/
LOCATION:Mehrzweckraum\, Kosebruchweg 14\, Delitzsch\, Sachsen\, 04509\, Germany
CATEGORIES:Kurse / Workshops
ATTACH;FMTTYPE=image/png:https://soziokulturelles-zentrum.de/wp-content/uploads/2025/07/YOGA.png
END:VEVENT
BEGIN:VEVENT
DTSTART;TZID=Europe/Berlin:20270614T094500
DTEND;TZID=Europe/Berlin:20270614T104500
DTSTAMP:20260425T143159
CREATED:20250701T090759Z
LAST-MODIFIED:20250701T090759Z
UID:10002520-1812966300-1812969900@soziokulturelles-zentrum.de
SUMMARY:Krabbelgruppe
DESCRIPTION:
URL:https://soziokulturelles-zentrum.de/event/krabbelgruppe/2027-06-14/
LOCATION:Mehrzweckraum\, Kosebruchweg 14\, Delitzsch\, Sachsen\, 04509\, Germany
CATEGORIES:Kurse / Workshops
ATTACH;FMTTYPE=image/png:https://soziokulturelles-zentrum.de/wp-content/uploads/2025/07/Krabbelgruppe.png
END:VEVENT
BEGIN:VEVENT
DTSTART;TZID=Europe/Berlin:20270614T160000
DTEND;TZID=Europe/Berlin:20270614T170000
DTSTAMP:20260425T143159
CREATED:20250701T090619Z
LAST-MODIFIED:20250701T090619Z
UID:10002263-1812988800-1812992400@soziokulturelles-zentrum.de
SUMMARY:Yoga-Kurs
DESCRIPTION:montags\, 09:45 – 10:45 Uhr & 16:00 – 17:00 Uhr
URL:https://soziokulturelles-zentrum.de/event/hatha-yoga-2/2027-06-14/
LOCATION:Mehrzweckraum\, Kosebruchweg 14\, Delitzsch\, Sachsen\, 04509\, Germany
CATEGORIES:Kurse / Workshops
ATTACH;FMTTYPE=image/png:https://soziokulturelles-zentrum.de/wp-content/uploads/2025/07/YOGA.png
END:VEVENT
BEGIN:VEVENT
DTSTART;TZID=Europe/Berlin:20270621T094500
DTEND;TZID=Europe/Berlin:20270621T104500
DTSTAMP:20260425T143159
CREATED:20250701T090759Z
LAST-MODIFIED:20250701T090759Z
UID:10002521-1813571100-1813574700@soziokulturelles-zentrum.de
SUMMARY:Krabbelgruppe
DESCRIPTION:
URL:https://soziokulturelles-zentrum.de/event/krabbelgruppe/2027-06-21/
LOCATION:Mehrzweckraum\, Kosebruchweg 14\, Delitzsch\, Sachsen\, 04509\, Germany
CATEGORIES:Kurse / Workshops
ATTACH;FMTTYPE=image/png:https://soziokulturelles-zentrum.de/wp-content/uploads/2025/07/Krabbelgruppe.png
END:VEVENT
BEGIN:VEVENT
DTSTART;TZID=Europe/Berlin:20270621T160000
DTEND;TZID=Europe/Berlin:20270621T170000
DTSTAMP:20260425T143159
CREATED:20250701T090619Z
LAST-MODIFIED:20250701T090619Z
UID:10002264-1813593600-1813597200@soziokulturelles-zentrum.de
SUMMARY:Yoga-Kurs
DESCRIPTION:montags\, 09:45 – 10:45 Uhr & 16:00 – 17:00 Uhr
URL:https://soziokulturelles-zentrum.de/event/hatha-yoga-2/2027-06-21/
LOCATION:Mehrzweckraum\, Kosebruchweg 14\, Delitzsch\, Sachsen\, 04509\, Germany
CATEGORIES:Kurse / Workshops
ATTACH;FMTTYPE=image/png:https://soziokulturelles-zentrum.de/wp-content/uploads/2025/07/YOGA.png
END:VEVENT
BEGIN:VEVENT
DTSTART;TZID=Europe/Berlin:20270628T094500
DTEND;TZID=Europe/Berlin:20270628T104500
DTSTAMP:20260425T143159
CREATED:20250701T090759Z
LAST-MODIFIED:20250701T090759Z
UID:10002522-1814175900-1814179500@soziokulturelles-zentrum.de
SUMMARY:Krabbelgruppe
DESCRIPTION:
URL:https://soziokulturelles-zentrum.de/event/krabbelgruppe/2027-06-28/
LOCATION:Mehrzweckraum\, Kosebruchweg 14\, Delitzsch\, Sachsen\, 04509\, Germany
CATEGORIES:Kurse / Workshops
ATTACH;FMTTYPE=image/png:https://soziokulturelles-zentrum.de/wp-content/uploads/2025/07/Krabbelgruppe.png
END:VEVENT
BEGIN:VEVENT
DTSTART;TZID=Europe/Berlin:20270628T160000
DTEND;TZID=Europe/Berlin:20270628T170000
DTSTAMP:20260425T143159
CREATED:20250701T090619Z
LAST-MODIFIED:20250701T090619Z
UID:10002265-1814198400-1814202000@soziokulturelles-zentrum.de
SUMMARY:Yoga-Kurs
DESCRIPTION:montags\, 09:45 – 10:45 Uhr & 16:00 – 17:00 Uhr
URL:https://soziokulturelles-zentrum.de/event/hatha-yoga-2/2027-06-28/
LOCATION:Mehrzweckraum\, Kosebruchweg 14\, Delitzsch\, Sachsen\, 04509\, Germany
CATEGORIES:Kurse / Workshops
ATTACH;FMTTYPE=image/png:https://soziokulturelles-zentrum.de/wp-content/uploads/2025/07/YOGA.png
END:VEVENT
BEGIN:VEVENT
DTSTART;TZID=Europe/Berlin:20270705T094500
DTEND;TZID=Europe/Berlin:20270705T104500
DTSTAMP:20260425T143159
CREATED:20250701T090759Z
LAST-MODIFIED:20250701T090759Z
UID:10002523-1814780700-1814784300@soziokulturelles-zentrum.de
SUMMARY:Krabbelgruppe
DESCRIPTION:
URL:https://soziokulturelles-zentrum.de/event/krabbelgruppe/2027-07-05/
LOCATION:Mehrzweckraum\, Kosebruchweg 14\, Delitzsch\, Sachsen\, 04509\, Germany
CATEGORIES:Kurse / Workshops
ATTACH;FMTTYPE=image/png:https://soziokulturelles-zentrum.de/wp-content/uploads/2025/07/Krabbelgruppe.png
END:VEVENT
BEGIN:VEVENT
DTSTART;TZID=Europe/Berlin:20270705T160000
DTEND;TZID=Europe/Berlin:20270705T170000
DTSTAMP:20260425T143159
CREATED:20250701T090619Z
LAST-MODIFIED:20250701T090619Z
UID:10002266-1814803200-1814806800@soziokulturelles-zentrum.de
SUMMARY:Yoga-Kurs
DESCRIPTION:montags\, 09:45 – 10:45 Uhr & 16:00 – 17:00 Uhr
URL:https://soziokulturelles-zentrum.de/event/hatha-yoga-2/2027-07-05/
LOCATION:Mehrzweckraum\, Kosebruchweg 14\, Delitzsch\, Sachsen\, 04509\, Germany
CATEGORIES:Kurse / Workshops
ATTACH;FMTTYPE=image/png:https://soziokulturelles-zentrum.de/wp-content/uploads/2025/07/YOGA.png
END:VEVENT
BEGIN:VEVENT
DTSTART;TZID=Europe/Berlin:20270712T094500
DTEND;TZID=Europe/Berlin:20270712T104500
DTSTAMP:20260425T143159
CREATED:20250701T090759Z
LAST-MODIFIED:20250701T090759Z
UID:10002524-1815385500-1815389100@soziokulturelles-zentrum.de
SUMMARY:Krabbelgruppe
DESCRIPTION:
URL:https://soziokulturelles-zentrum.de/event/krabbelgruppe/2027-07-12/
LOCATION:Mehrzweckraum\, Kosebruchweg 14\, Delitzsch\, Sachsen\, 04509\, Germany
CATEGORIES:Kurse / Workshops
ATTACH;FMTTYPE=image/png:https://soziokulturelles-zentrum.de/wp-content/uploads/2025/07/Krabbelgruppe.png
END:VEVENT
BEGIN:VEVENT
DTSTART;TZID=Europe/Berlin:20270712T160000
DTEND;TZID=Europe/Berlin:20270712T170000
DTSTAMP:20260425T143159
CREATED:20250701T090619Z
LAST-MODIFIED:20250701T090619Z
UID:10002267-1815408000-1815411600@soziokulturelles-zentrum.de
SUMMARY:Yoga-Kurs
DESCRIPTION:montags\, 09:45 – 10:45 Uhr & 16:00 – 17:00 Uhr
URL:https://soziokulturelles-zentrum.de/event/hatha-yoga-2/2027-07-12/
LOCATION:Mehrzweckraum\, Kosebruchweg 14\, Delitzsch\, Sachsen\, 04509\, Germany
CATEGORIES:Kurse / Workshops
ATTACH;FMTTYPE=image/png:https://soziokulturelles-zentrum.de/wp-content/uploads/2025/07/YOGA.png
END:VEVENT
BEGIN:VEVENT
DTSTART;TZID=Europe/Berlin:20270719T094500
DTEND;TZID=Europe/Berlin:20270719T104500
DTSTAMP:20260425T143159
CREATED:20250701T090759Z
LAST-MODIFIED:20250701T090759Z
UID:10002525-1815990300-1815993900@soziokulturelles-zentrum.de
SUMMARY:Krabbelgruppe
DESCRIPTION:
URL:https://soziokulturelles-zentrum.de/event/krabbelgruppe/2027-07-19/
LOCATION:Mehrzweckraum\, Kosebruchweg 14\, Delitzsch\, Sachsen\, 04509\, Germany
CATEGORIES:Kurse / Workshops
ATTACH;FMTTYPE=image/png:https://soziokulturelles-zentrum.de/wp-content/uploads/2025/07/Krabbelgruppe.png
END:VEVENT
BEGIN:VEVENT
DTSTART;TZID=Europe/Berlin:20270719T160000
DTEND;TZID=Europe/Berlin:20270719T170000
DTSTAMP:20260425T143159
CREATED:20250701T090619Z
LAST-MODIFIED:20250701T090619Z
UID:10002268-1816012800-1816016400@soziokulturelles-zentrum.de
SUMMARY:Yoga-Kurs
DESCRIPTION:montags\, 09:45 – 10:45 Uhr & 16:00 – 17:00 Uhr
URL:https://soziokulturelles-zentrum.de/event/hatha-yoga-2/2027-07-19/
LOCATION:Mehrzweckraum\, Kosebruchweg 14\, Delitzsch\, Sachsen\, 04509\, Germany
CATEGORIES:Kurse / Workshops
ATTACH;FMTTYPE=image/png:https://soziokulturelles-zentrum.de/wp-content/uploads/2025/07/YOGA.png
END:VEVENT
BEGIN:VEVENT
DTSTART;TZID=Europe/Berlin:20270726T094500
DTEND;TZID=Europe/Berlin:20270726T104500
DTSTAMP:20260425T143159
CREATED:20250701T090759Z
LAST-MODIFIED:20250701T090759Z
UID:10002526-1816595100-1816598700@soziokulturelles-zentrum.de
SUMMARY:Krabbelgruppe
DESCRIPTION:
URL:https://soziokulturelles-zentrum.de/event/krabbelgruppe/2027-07-26/
LOCATION:Mehrzweckraum\, Kosebruchweg 14\, Delitzsch\, Sachsen\, 04509\, Germany
CATEGORIES:Kurse / Workshops
ATTACH;FMTTYPE=image/png:https://soziokulturelles-zentrum.de/wp-content/uploads/2025/07/Krabbelgruppe.png
END:VEVENT
BEGIN:VEVENT
DTSTART;TZID=Europe/Berlin:20270726T160000
DTEND;TZID=Europe/Berlin:20270726T170000
DTSTAMP:20260425T143159
CREATED:20250701T090619Z
LAST-MODIFIED:20250701T090619Z
UID:10002269-1816617600-1816621200@soziokulturelles-zentrum.de
SUMMARY:Yoga-Kurs
DESCRIPTION:montags\, 09:45 – 10:45 Uhr & 16:00 – 17:00 Uhr
URL:https://soziokulturelles-zentrum.de/event/hatha-yoga-2/2027-07-26/
LOCATION:Mehrzweckraum\, Kosebruchweg 14\, Delitzsch\, Sachsen\, 04509\, Germany
CATEGORIES:Kurse / Workshops
ATTACH;FMTTYPE=image/png:https://soziokulturelles-zentrum.de/wp-content/uploads/2025/07/YOGA.png
END:VEVENT
BEGIN:VEVENT
DTSTART;TZID=Europe/Berlin:20270802T094500
DTEND;TZID=Europe/Berlin:20270802T104500
DTSTAMP:20260425T143159
CREATED:20250701T090759Z
LAST-MODIFIED:20250701T090759Z
UID:10002527-1817199900-1817203500@soziokulturelles-zentrum.de
SUMMARY:Krabbelgruppe
DESCRIPTION:
URL:https://soziokulturelles-zentrum.de/event/krabbelgruppe/2027-08-02/
LOCATION:Mehrzweckraum\, Kosebruchweg 14\, Delitzsch\, Sachsen\, 04509\, Germany
CATEGORIES:Kurse / Workshops
ATTACH;FMTTYPE=image/png:https://soziokulturelles-zentrum.de/wp-content/uploads/2025/07/Krabbelgruppe.png
END:VEVENT
BEGIN:VEVENT
DTSTART;TZID=Europe/Berlin:20270802T160000
DTEND;TZID=Europe/Berlin:20270802T170000
DTSTAMP:20260425T143159
CREATED:20250701T090619Z
LAST-MODIFIED:20250701T090619Z
UID:10002270-1817222400-1817226000@soziokulturelles-zentrum.de
SUMMARY:Yoga-Kurs
DESCRIPTION:montags\, 09:45 – 10:45 Uhr & 16:00 – 17:00 Uhr
URL:https://soziokulturelles-zentrum.de/event/hatha-yoga-2/2027-08-02/
LOCATION:Mehrzweckraum\, Kosebruchweg 14\, Delitzsch\, Sachsen\, 04509\, Germany
CATEGORIES:Kurse / Workshops
ATTACH;FMTTYPE=image/png:https://soziokulturelles-zentrum.de/wp-content/uploads/2025/07/YOGA.png
END:VEVENT
BEGIN:VEVENT
DTSTART;TZID=Europe/Berlin:20270809T094500
DTEND;TZID=Europe/Berlin:20270809T104500
DTSTAMP:20260425T143159
CREATED:20250701T090759Z
LAST-MODIFIED:20250701T090759Z
UID:10002528-1817804700-1817808300@soziokulturelles-zentrum.de
SUMMARY:Krabbelgruppe
DESCRIPTION:
URL:https://soziokulturelles-zentrum.de/event/krabbelgruppe/2027-08-09/
LOCATION:Mehrzweckraum\, Kosebruchweg 14\, Delitzsch\, Sachsen\, 04509\, Germany
CATEGORIES:Kurse / Workshops
ATTACH;FMTTYPE=image/png:https://soziokulturelles-zentrum.de/wp-content/uploads/2025/07/Krabbelgruppe.png
END:VEVENT
BEGIN:VEVENT
DTSTART;TZID=Europe/Berlin:20270809T160000
DTEND;TZID=Europe/Berlin:20270809T170000
DTSTAMP:20260425T143159
CREATED:20250701T090619Z
LAST-MODIFIED:20250701T090619Z
UID:10002271-1817827200-1817830800@soziokulturelles-zentrum.de
SUMMARY:Yoga-Kurs
DESCRIPTION:montags\, 09:45 – 10:45 Uhr & 16:00 – 17:00 Uhr
URL:https://soziokulturelles-zentrum.de/event/hatha-yoga-2/2027-08-09/
LOCATION:Mehrzweckraum\, Kosebruchweg 14\, Delitzsch\, Sachsen\, 04509\, Germany
CATEGORIES:Kurse / Workshops
ATTACH;FMTTYPE=image/png:https://soziokulturelles-zentrum.de/wp-content/uploads/2025/07/YOGA.png
END:VEVENT
BEGIN:VEVENT
DTSTART;TZID=Europe/Berlin:20270816T094500
DTEND;TZID=Europe/Berlin:20270816T104500
DTSTAMP:20260425T143159
CREATED:20250701T090759Z
LAST-MODIFIED:20250701T090759Z
UID:10002529-1818409500-1818413100@soziokulturelles-zentrum.de
SUMMARY:Krabbelgruppe
DESCRIPTION:
URL:https://soziokulturelles-zentrum.de/event/krabbelgruppe/2027-08-16/
LOCATION:Mehrzweckraum\, Kosebruchweg 14\, Delitzsch\, Sachsen\, 04509\, Germany
CATEGORIES:Kurse / Workshops
ATTACH;FMTTYPE=image/png:https://soziokulturelles-zentrum.de/wp-content/uploads/2025/07/Krabbelgruppe.png
END:VEVENT
BEGIN:VEVENT
DTSTART;TZID=Europe/Berlin:20270816T160000
DTEND;TZID=Europe/Berlin:20270816T170000
DTSTAMP:20260425T143159
CREATED:20250701T090619Z
LAST-MODIFIED:20250701T090619Z
UID:10002272-1818432000-1818435600@soziokulturelles-zentrum.de
SUMMARY:Yoga-Kurs
DESCRIPTION:montags\, 09:45 – 10:45 Uhr & 16:00 – 17:00 Uhr
URL:https://soziokulturelles-zentrum.de/event/hatha-yoga-2/2027-08-16/
LOCATION:Mehrzweckraum\, Kosebruchweg 14\, Delitzsch\, Sachsen\, 04509\, Germany
CATEGORIES:Kurse / Workshops
ATTACH;FMTTYPE=image/png:https://soziokulturelles-zentrum.de/wp-content/uploads/2025/07/YOGA.png
END:VEVENT
BEGIN:VEVENT
DTSTART;TZID=Europe/Berlin:20270823T094500
DTEND;TZID=Europe/Berlin:20270823T104500
DTSTAMP:20260425T143159
CREATED:20250701T090759Z
LAST-MODIFIED:20250701T090759Z
UID:10002530-1819014300-1819017900@soziokulturelles-zentrum.de
SUMMARY:Krabbelgruppe
DESCRIPTION:
URL:https://soziokulturelles-zentrum.de/event/krabbelgruppe/2027-08-23/
LOCATION:Mehrzweckraum\, Kosebruchweg 14\, Delitzsch\, Sachsen\, 04509\, Germany
CATEGORIES:Kurse / Workshops
ATTACH;FMTTYPE=image/png:https://soziokulturelles-zentrum.de/wp-content/uploads/2025/07/Krabbelgruppe.png
END:VEVENT
BEGIN:VEVENT
DTSTART;TZID=Europe/Berlin:20270823T160000
DTEND;TZID=Europe/Berlin:20270823T170000
DTSTAMP:20260425T143159
CREATED:20250701T090619Z
LAST-MODIFIED:20250701T090619Z
UID:10002273-1819036800-1819040400@soziokulturelles-zentrum.de
SUMMARY:Yoga-Kurs
DESCRIPTION:montags\, 09:45 – 10:45 Uhr & 16:00 – 17:00 Uhr
URL:https://soziokulturelles-zentrum.de/event/hatha-yoga-2/2027-08-23/
LOCATION:Mehrzweckraum\, Kosebruchweg 14\, Delitzsch\, Sachsen\, 04509\, Germany
CATEGORIES:Kurse / Workshops
ATTACH;FMTTYPE=image/png:https://soziokulturelles-zentrum.de/wp-content/uploads/2025/07/YOGA.png
END:VEVENT
BEGIN:VEVENT
DTSTART;TZID=Europe/Berlin:20270830T094500
DTEND;TZID=Europe/Berlin:20270830T104500
DTSTAMP:20260425T143159
CREATED:20250701T090759Z
LAST-MODIFIED:20250701T090759Z
UID:10002531-1819619100-1819622700@soziokulturelles-zentrum.de
SUMMARY:Krabbelgruppe
DESCRIPTION:
URL:https://soziokulturelles-zentrum.de/event/krabbelgruppe/2027-08-30/
LOCATION:Mehrzweckraum\, Kosebruchweg 14\, Delitzsch\, Sachsen\, 04509\, Germany
CATEGORIES:Kurse / Workshops
ATTACH;FMTTYPE=image/png:https://soziokulturelles-zentrum.de/wp-content/uploads/2025/07/Krabbelgruppe.png
END:VEVENT
BEGIN:VEVENT
DTSTART;TZID=Europe/Berlin:20270830T160000
DTEND;TZID=Europe/Berlin:20270830T170000
DTSTAMP:20260425T143159
CREATED:20250701T090619Z
LAST-MODIFIED:20250701T090619Z
UID:10002274-1819641600-1819645200@soziokulturelles-zentrum.de
SUMMARY:Yoga-Kurs
DESCRIPTION:montags\, 09:45 – 10:45 Uhr & 16:00 – 17:00 Uhr
URL:https://soziokulturelles-zentrum.de/event/hatha-yoga-2/2027-08-30/
LOCATION:Mehrzweckraum\, Kosebruchweg 14\, Delitzsch\, Sachsen\, 04509\, Germany
CATEGORIES:Kurse / Workshops
ATTACH;FMTTYPE=image/png:https://soziokulturelles-zentrum.de/wp-content/uploads/2025/07/YOGA.png
END:VEVENT
BEGIN:VEVENT
DTSTART;TZID=Europe/Berlin:20270906T094500
DTEND;TZID=Europe/Berlin:20270906T104500
DTSTAMP:20260425T143159
CREATED:20250701T090759Z
LAST-MODIFIED:20250701T090759Z
UID:10002532-1820223900-1820227500@soziokulturelles-zentrum.de
SUMMARY:Krabbelgruppe
DESCRIPTION:
URL:https://soziokulturelles-zentrum.de/event/krabbelgruppe/2027-09-06/
LOCATION:Mehrzweckraum\, Kosebruchweg 14\, Delitzsch\, Sachsen\, 04509\, Germany
CATEGORIES:Kurse / Workshops
ATTACH;FMTTYPE=image/png:https://soziokulturelles-zentrum.de/wp-content/uploads/2025/07/Krabbelgruppe.png
END:VEVENT
BEGIN:VEVENT
DTSTART;TZID=Europe/Berlin:20270906T160000
DTEND;TZID=Europe/Berlin:20270906T170000
DTSTAMP:20260425T143159
CREATED:20250701T090619Z
LAST-MODIFIED:20250701T090619Z
UID:10002275-1820246400-1820250000@soziokulturelles-zentrum.de
SUMMARY:Yoga-Kurs
DESCRIPTION:montags\, 09:45 – 10:45 Uhr & 16:00 – 17:00 Uhr
URL:https://soziokulturelles-zentrum.de/event/hatha-yoga-2/2027-09-06/
LOCATION:Mehrzweckraum\, Kosebruchweg 14\, Delitzsch\, Sachsen\, 04509\, Germany
CATEGORIES:Kurse / Workshops
ATTACH;FMTTYPE=image/png:https://soziokulturelles-zentrum.de/wp-content/uploads/2025/07/YOGA.png
END:VEVENT
BEGIN:VEVENT
DTSTART;TZID=Europe/Berlin:20270913T094500
DTEND;TZID=Europe/Berlin:20270913T104500
DTSTAMP:20260425T143159
CREATED:20250701T090759Z
LAST-MODIFIED:20250701T090759Z
UID:10002533-1820828700-1820832300@soziokulturelles-zentrum.de
SUMMARY:Krabbelgruppe
DESCRIPTION:
URL:https://soziokulturelles-zentrum.de/event/krabbelgruppe/2027-09-13/
LOCATION:Mehrzweckraum\, Kosebruchweg 14\, Delitzsch\, Sachsen\, 04509\, Germany
CATEGORIES:Kurse / Workshops
ATTACH;FMTTYPE=image/png:https://soziokulturelles-zentrum.de/wp-content/uploads/2025/07/Krabbelgruppe.png
END:VEVENT
BEGIN:VEVENT
DTSTART;TZID=Europe/Berlin:20270913T160000
DTEND;TZID=Europe/Berlin:20270913T170000
DTSTAMP:20260425T143159
CREATED:20250701T090619Z
LAST-MODIFIED:20250701T090619Z
UID:10002276-1820851200-1820854800@soziokulturelles-zentrum.de
SUMMARY:Yoga-Kurs
DESCRIPTION:montags\, 09:45 – 10:45 Uhr & 16:00 – 17:00 Uhr
URL:https://soziokulturelles-zentrum.de/event/hatha-yoga-2/2027-09-13/
LOCATION:Mehrzweckraum\, Kosebruchweg 14\, Delitzsch\, Sachsen\, 04509\, Germany
CATEGORIES:Kurse / Workshops
ATTACH;FMTTYPE=image/png:https://soziokulturelles-zentrum.de/wp-content/uploads/2025/07/YOGA.png
END:VEVENT
BEGIN:VEVENT
DTSTART;TZID=Europe/Berlin:20270920T094500
DTEND;TZID=Europe/Berlin:20270920T104500
DTSTAMP:20260425T143159
CREATED:20250701T090759Z
LAST-MODIFIED:20250701T090759Z
UID:10002534-1821433500-1821437100@soziokulturelles-zentrum.de
SUMMARY:Krabbelgruppe
DESCRIPTION:
URL:https://soziokulturelles-zentrum.de/event/krabbelgruppe/2027-09-20/
LOCATION:Mehrzweckraum\, Kosebruchweg 14\, Delitzsch\, Sachsen\, 04509\, Germany
CATEGORIES:Kurse / Workshops
ATTACH;FMTTYPE=image/png:https://soziokulturelles-zentrum.de/wp-content/uploads/2025/07/Krabbelgruppe.png
END:VEVENT
END:VCALENDAR