BEGIN:VCALENDAR
VERSION:2.0
PRODID:-//Soziokulturelles Zentrum e.V. - ECPv6.15.20//NONSGML v1.0//EN
CALSCALE:GREGORIAN
METHOD:PUBLISH
X-ORIGINAL-URL:https://soziokulturelles-zentrum.de
X-WR-CALDESC:Veranstaltungen für Soziokulturelles Zentrum e.V.
REFRESH-INTERVAL;VALUE=DURATION:PT1H
X-Robots-Tag:noindex
X-PUBLISHED-TTL:PT1H
BEGIN:VTIMEZONE
TZID:Europe/Berlin
BEGIN:DAYLIGHT
TZOFFSETFROM:+0100
TZOFFSETTO:+0200
TZNAME:CEST
DTSTART:20240331T010000
END:DAYLIGHT
BEGIN:STANDARD
TZOFFSETFROM:+0200
TZOFFSETTO:+0100
TZNAME:CET
DTSTART:20241027T010000
END:STANDARD
BEGIN:DAYLIGHT
TZOFFSETFROM:+0100
TZOFFSETTO:+0200
TZNAME:CEST
DTSTART:20250330T010000
END:DAYLIGHT
BEGIN:STANDARD
TZOFFSETFROM:+0200
TZOFFSETTO:+0100
TZNAME:CET
DTSTART:20251026T010000
END:STANDARD
BEGIN:DAYLIGHT
TZOFFSETFROM:+0100
TZOFFSETTO:+0200
TZNAME:CEST
DTSTART:20260329T010000
END:DAYLIGHT
BEGIN:STANDARD
TZOFFSETFROM:+0200
TZOFFSETTO:+0100
TZNAME:CET
DTSTART:20261025T010000
END:STANDARD
BEGIN:DAYLIGHT
TZOFFSETFROM:+0100
TZOFFSETTO:+0200
TZNAME:CEST
DTSTART:20270328T010000
END:DAYLIGHT
BEGIN:STANDARD
TZOFFSETFROM:+0200
TZOFFSETTO:+0100
TZNAME:CET
DTSTART:20271031T010000
END:STANDARD
END:VTIMEZONE
BEGIN:VEVENT
DTSTART;TZID=Europe/Berlin:20260421T070000
DTEND;TZID=Europe/Berlin:20260421T190000
DTSTAMP:20260423T134029
CREATED:20251218T123644Z
LAST-MODIFIED:20251218T123644Z
UID:10002832-1776754800-1776798000@soziokulturelles-zentrum.de
SUMMARY:Demenznetz Delitzsch - Busfahrt nach Prag
DESCRIPTION:
URL:https://soziokulturelles-zentrum.de/event/demenznetz-delitzsch-busfahrt-nach-prag/
LOCATION:Extern\, Germany
CATEGORIES:Demenz
ATTACH;FMTTYPE=image/webp:https://soziokulturelles-zentrum.de/wp-content/uploads/2025/12/Prag_11zon.webp
ORGANIZER;CN="Demenznetz Delitzsch":MAILTO:info@demenznetz-delitzsch.de
END:VEVENT
BEGIN:VEVENT
DTSTART;TZID=Europe/Berlin:20260321T160000
DTEND;TZID=Europe/Berlin:20260321T220000
DTSTAMP:20260423T134029
CREATED:20260210T060856Z
LAST-MODIFIED:20260210T060856Z
UID:10002994-1774108800-1774130400@soziokulturelles-zentrum.de
SUMMARY:Teen-Party
DESCRIPTION:
URL:https://soziokulturelles-zentrum.de/event/teen-party-2/
LOCATION:Extern\, Germany
ATTACH;FMTTYPE=image/jpeg:https://soziokulturelles-zentrum.de/wp-content/uploads/2026/02/WhatsApp-Image-2026-02-09-at-17.26.39.jpeg
END:VEVENT
BEGIN:VEVENT
DTSTART;TZID=Europe/Berlin:20251211T100000
DTEND;TZID=Europe/Berlin:20251211T170000
DTSTAMP:20260423T134029
CREATED:20251028T131430Z
LAST-MODIFIED:20251028T131430Z
UID:10002748-1765447200-1765472400@soziokulturelles-zentrum.de
SUMMARY:Weihnachtsmarktbesuch in Dresden
DESCRIPTION:
URL:https://soziokulturelles-zentrum.de/event/weihnachtsmarktbesuch-in-dresden/
LOCATION:Extern\, Germany
CATEGORIES:Demenz
ATTACH;FMTTYPE=image/png:https://soziokulturelles-zentrum.de/wp-content/uploads/2025/10/Demenz-Ausfluege.png
ORGANIZER;CN="Demenznetz Delitzsch":MAILTO:info@demenznetz-delitzsch.de
END:VEVENT
BEGIN:VEVENT
DTSTART;TZID=Europe/Berlin:20251206T180000
DTEND;TZID=Europe/Berlin:20251207T000000
DTSTAMP:20260423T134029
CREATED:20251124T104619Z
LAST-MODIFIED:20251124T104708Z
UID:10002774-1765044000-1765065600@soziokulturelles-zentrum.de
SUMMARY:Teen-Party
DESCRIPTION:Am 06. Dezember 2025 verwandelt sich die Eilenburger Chaussee 68\, 04509 Delitzsch in das pulsierende HotSpot für unsere Jugend in und um Delitzsch! Die Teen Party\, präsentiert von Menschenskinder Delitzsch! e.V.\, Check Deine Provinz\, Jugendparlament Delitzsch\, Soziokulturelles\, Zentrum e.V. & VibrA Dj Schule lädt ab 18:00 Uhr alle Musikfans ab 12 Jahren zu einer mitreißenden Party ein. Mit den Acts unserer DJ Schule an den Decks verspricht das Line-Up einen elektrisierenden Mix aus Querbeat und Chartmusic\, der euch auf die Tanzfläche ziehen wird. \nDer Eintritt inklusive einer Getränkekarte (kein Alkohol) im Wert von 10€ kostet nur 15 € – ein unschlagbares Angebot\, das du jetzt bequem online unter www.checkdeineprovinz.de vorbestellen kannst! Diese Veranstaltung kombiniert Spaß und Gemeinschaft\, unterstützt von engagierten Partnern\, die sich für die Jugend einsetzen. Tickets sind begrenzt – also sei schnell dabei! Weitere Infos findest du vor Ort oder auf www.checkdeineprovinz.de. Gemeinsam machen wir Delitzsch zum Party Hotspot für Euch. \n\n▬▬ EINTRITT ▬▬EINTRITT ab 18 Uhr– Kinder bis 13 Jahre bis 22:00 Uhr– Jugendliche ab 14 Jahre bis 24:00 Uhr– Schülerausweis oder Personalausweis nicht vergessen!Abendkasse: Paket15€ (Eintritt 5€ und Getränkekarte10€) \n\n▬▬ LOCATION ▬▬\nDisco\nEilenburger Chaussee 6804509 Delitzsch
URL:https://soziokulturelles-zentrum.de/event/teen-party/
LOCATION:Extern\, Germany
CATEGORIES:Großveranstaltung
ATTACH;FMTTYPE=image/jpeg:https://soziokulturelles-zentrum.de/wp-content/uploads/2025/11/teenparty.jpeg
END:VEVENT
BEGIN:VEVENT
DTSTART;TZID=Europe/Berlin:20251029T080000
DTEND;TZID=Europe/Berlin:20251029T170000
DTSTAMP:20260423T134029
CREATED:20250909T121613Z
LAST-MODIFIED:20250909T121613Z
UID:10002742-1761724800-1761757200@soziokulturelles-zentrum.de
SUMMARY:Bus-Ausflug nach Beelitz / Klaistow
DESCRIPTION:
URL:https://soziokulturelles-zentrum.de/event/bus-ausflug-nach-beelitz-klaistow/
LOCATION:Extern\, Germany
CATEGORIES:Demenz
ATTACH;FMTTYPE=image/webp:https://soziokulturelles-zentrum.de/wp-content/uploads/2025/09/Demenz-Ausflug.webp
ORGANIZER;CN="Demenznetz Delitzsch":MAILTO:info@demenznetz-delitzsch.de
END:VEVENT
BEGIN:VEVENT
DTSTART;TZID=Europe/Berlin:20251020T180000
DTEND;TZID=Europe/Berlin:20251020T200000
DTSTAMP:20260423T134029
CREATED:20251013T075050Z
LAST-MODIFIED:20251013T075050Z
UID:10002744-1760983200-1760990400@soziokulturelles-zentrum.de
SUMMARY:Bürgergespräch Medienvertrauen: Journalisten stellen sich Ihren Fragen
DESCRIPTION:Nirgendwo in Deutschland sind die Bürger so misstrauisch gegenüber den Medien wie in Sachsen. Eine neue Studie der Universität Leipzig und das Projekt „Nahrichtenwerkstatt“ von „Arbeit und Leben“ beleuchtet die Gründe dafür – und Journalisten stellen sich Ihren Fragen.\nWir laden Sie herzlich dazu ein\, sich aktiv einzubringen und ihre Fragen zu stellen. Für eine kleine Verpflegung ist gesorgt.\nDer Eintritt ist frei.
URL:https://soziokulturelles-zentrum.de/event/buergergespraech-medienvertrauen-journalisten-stellen-sich-ihren-fragen/
LOCATION:Extern\, Germany
ATTACH;FMTTYPE=image/png:https://soziokulturelles-zentrum.de/wp-content/uploads/2025/10/fes.png
END:VEVENT
END:VCALENDAR