BEGIN:VCALENDAR
VERSION:2.0
PRODID:-//Soziokulturelles Zentrum e.V. - ECPv6.15.20//NONSGML v1.0//EN
CALSCALE:GREGORIAN
METHOD:PUBLISH
X-WR-CALNAME:Soziokulturelles Zentrum e.V.
X-ORIGINAL-URL:https://soziokulturelles-zentrum.de
X-WR-CALDESC:Veranstaltungen für Soziokulturelles Zentrum e.V.
REFRESH-INTERVAL;VALUE=DURATION:PT1H
X-Robots-Tag:noindex
X-PUBLISHED-TTL:PT1H
BEGIN:VTIMEZONE
TZID:Europe/Berlin
BEGIN:DAYLIGHT
TZOFFSETFROM:+0100
TZOFFSETTO:+0200
TZNAME:CEST
DTSTART:20290325T010000
END:DAYLIGHT
BEGIN:STANDARD
TZOFFSETFROM:+0200
TZOFFSETTO:+0100
TZNAME:CET
DTSTART:20291028T010000
END:STANDARD
BEGIN:DAYLIGHT
TZOFFSETFROM:+0100
TZOFFSETTO:+0200
TZNAME:CEST
DTSTART:20300331T010000
END:DAYLIGHT
BEGIN:STANDARD
TZOFFSETFROM:+0200
TZOFFSETTO:+0100
TZNAME:CET
DTSTART:20301027T010000
END:STANDARD
BEGIN:DAYLIGHT
TZOFFSETFROM:+0100
TZOFFSETTO:+0200
TZNAME:CEST
DTSTART:20310330T010000
END:DAYLIGHT
BEGIN:STANDARD
TZOFFSETFROM:+0200
TZOFFSETTO:+0100
TZNAME:CET
DTSTART:20311026T010000
END:STANDARD
END:VTIMEZONE
BEGIN:VEVENT
DTSTART;TZID=Europe/Berlin:20300717T140000
DTEND;TZID=Europe/Berlin:20300717T160000
DTSTAMP:20260424T114744
CREATED:20251204T092437Z
LAST-MODIFIED:20251204T092605Z
UID:10002816-1910527200-1910534400@soziokulturelles-zentrum.de
SUMMARY:Demenz Beschäftigung - Aktive Momente voller Liebe
DESCRIPTION:
URL:https://soziokulturelles-zentrum.de/event/demenz-beschaeftigung-aktive-momente-voller-liebe-2/2030-07-17/
LOCATION:Begegnungsstätte\, Kosebruchweg 14\, Delitzsch\, Sachsen\, 04509\, Deutschland
CATEGORIES:Demenz
ATTACH;FMTTYPE=image/webp:https://soziokulturelles-zentrum.de/wp-content/uploads/2025/10/Demenzbeschaeftigung-neu-scaled.webp
ORGANIZER;CN="Demenznetz Delitzsch":MAILTO:info@demenznetz-delitzsch.de
END:VEVENT
BEGIN:VEVENT
DTSTART;TZID=Europe/Berlin:20300722T130000
DTEND;TZID=Europe/Berlin:20300722T153000
DTSTAMP:20260424T114744
CREATED:20260209T081608Z
LAST-MODIFIED:20260209T081608Z
UID:10002893-1910955600-1910964600@soziokulturelles-zentrum.de
SUMMARY:offener Handarbeits-Treff
DESCRIPTION:Bei uns sind alle willkommen – gern auch jüngere Interessierte ohne Vorkenntnisse. In der Gemeinschaft werden Tipps und Tricks ausgetauscht. \n  \n 
URL:https://soziokulturelles-zentrum.de/event/offener-handarbeits-treff-2-2/2030-07-22/
LOCATION:Begegnungsstätte\, Kosebruchweg 14\, Delitzsch\, Sachsen\, 04509\, Deutschland
CATEGORIES:Kurse / Workshops
ATTACH;FMTTYPE=image/png:https://soziokulturelles-zentrum.de/wp-content/uploads/2025/06/Handarbeitsterff.png
END:VEVENT
BEGIN:VEVENT
DTSTART;TZID=Europe/Berlin:20300724T130000
DTEND;TZID=Europe/Berlin:20300724T170000
DTSTAMP:20260424T114744
CREATED:20260209T083144Z
LAST-MODIFIED:20260209T083145Z
UID:10002965-1911128400-1911142800@soziokulturelles-zentrum.de
SUMMARY:Spielenachmittag
DESCRIPTION:
URL:https://soziokulturelles-zentrum.de/event/spielenachmittag-2/2030-07-24/
LOCATION:Begegnungsstätte\, Kosebruchweg 14\, Delitzsch\, Sachsen\, 04509\, Deutschland
CATEGORIES:Kurse / Workshops
ATTACH;FMTTYPE=image/png:https://soziokulturelles-zentrum.de/wp-content/uploads/2024/06/Spielenachmittag-Facebook-Post.png
END:VEVENT
BEGIN:VEVENT
DTSTART;TZID=Europe/Berlin:20300729T130000
DTEND;TZID=Europe/Berlin:20300729T153000
DTSTAMP:20260424T114744
CREATED:20260209T081608Z
LAST-MODIFIED:20260209T081608Z
UID:10002894-1911560400-1911569400@soziokulturelles-zentrum.de
SUMMARY:offener Handarbeits-Treff
DESCRIPTION:Bei uns sind alle willkommen – gern auch jüngere Interessierte ohne Vorkenntnisse. In der Gemeinschaft werden Tipps und Tricks ausgetauscht. \n  \n 
URL:https://soziokulturelles-zentrum.de/event/offener-handarbeits-treff-2-2/2030-07-29/
LOCATION:Begegnungsstätte\, Kosebruchweg 14\, Delitzsch\, Sachsen\, 04509\, Deutschland
CATEGORIES:Kurse / Workshops
ATTACH;FMTTYPE=image/png:https://soziokulturelles-zentrum.de/wp-content/uploads/2025/06/Handarbeitsterff.png
END:VEVENT
BEGIN:VEVENT
DTSTART;TZID=Europe/Berlin:20300731T130000
DTEND;TZID=Europe/Berlin:20300731T170000
DTSTAMP:20260424T114744
CREATED:20260209T083144Z
LAST-MODIFIED:20260209T083145Z
UID:10002966-1911733200-1911747600@soziokulturelles-zentrum.de
SUMMARY:Spielenachmittag
DESCRIPTION:
URL:https://soziokulturelles-zentrum.de/event/spielenachmittag-2/2030-07-31/
LOCATION:Begegnungsstätte\, Kosebruchweg 14\, Delitzsch\, Sachsen\, 04509\, Deutschland
CATEGORIES:Kurse / Workshops
ATTACH;FMTTYPE=image/png:https://soziokulturelles-zentrum.de/wp-content/uploads/2024/06/Spielenachmittag-Facebook-Post.png
END:VEVENT
BEGIN:VEVENT
DTSTART;TZID=Europe/Berlin:20300731T140000
DTEND;TZID=Europe/Berlin:20300731T160000
DTSTAMP:20260424T114744
CREATED:20251204T092437Z
LAST-MODIFIED:20251204T092605Z
UID:10002817-1911736800-1911744000@soziokulturelles-zentrum.de
SUMMARY:Demenz Beschäftigung - Aktive Momente voller Liebe
DESCRIPTION:
URL:https://soziokulturelles-zentrum.de/event/demenz-beschaeftigung-aktive-momente-voller-liebe-2/2030-07-31/
LOCATION:Begegnungsstätte\, Kosebruchweg 14\, Delitzsch\, Sachsen\, 04509\, Deutschland
CATEGORIES:Demenz
ATTACH;FMTTYPE=image/webp:https://soziokulturelles-zentrum.de/wp-content/uploads/2025/10/Demenzbeschaeftigung-neu-scaled.webp
ORGANIZER;CN="Demenznetz Delitzsch":MAILTO:info@demenznetz-delitzsch.de
END:VEVENT
BEGIN:VEVENT
DTSTART;TZID=Europe/Berlin:20300805T130000
DTEND;TZID=Europe/Berlin:20300805T153000
DTSTAMP:20260424T114744
CREATED:20260209T081608Z
LAST-MODIFIED:20260209T081608Z
UID:10002895-1912165200-1912174200@soziokulturelles-zentrum.de
SUMMARY:offener Handarbeits-Treff
DESCRIPTION:Bei uns sind alle willkommen – gern auch jüngere Interessierte ohne Vorkenntnisse. In der Gemeinschaft werden Tipps und Tricks ausgetauscht. \n  \n 
URL:https://soziokulturelles-zentrum.de/event/offener-handarbeits-treff-2-2/2030-08-05/
LOCATION:Begegnungsstätte\, Kosebruchweg 14\, Delitzsch\, Sachsen\, 04509\, Deutschland
CATEGORIES:Kurse / Workshops
ATTACH;FMTTYPE=image/png:https://soziokulturelles-zentrum.de/wp-content/uploads/2025/06/Handarbeitsterff.png
END:VEVENT
BEGIN:VEVENT
DTSTART;TZID=Europe/Berlin:20300807T130000
DTEND;TZID=Europe/Berlin:20300807T170000
DTSTAMP:20260424T114744
CREATED:20260209T083144Z
LAST-MODIFIED:20260209T083145Z
UID:10002967-1912338000-1912352400@soziokulturelles-zentrum.de
SUMMARY:Spielenachmittag
DESCRIPTION:
URL:https://soziokulturelles-zentrum.de/event/spielenachmittag-2/2030-08-07/
LOCATION:Begegnungsstätte\, Kosebruchweg 14\, Delitzsch\, Sachsen\, 04509\, Deutschland
CATEGORIES:Kurse / Workshops
ATTACH;FMTTYPE=image/png:https://soziokulturelles-zentrum.de/wp-content/uploads/2024/06/Spielenachmittag-Facebook-Post.png
END:VEVENT
BEGIN:VEVENT
DTSTART;TZID=Europe/Berlin:20300812T130000
DTEND;TZID=Europe/Berlin:20300812T153000
DTSTAMP:20260424T114744
CREATED:20260209T081608Z
LAST-MODIFIED:20260209T081608Z
UID:10002896-1912770000-1912779000@soziokulturelles-zentrum.de
SUMMARY:offener Handarbeits-Treff
DESCRIPTION:Bei uns sind alle willkommen – gern auch jüngere Interessierte ohne Vorkenntnisse. In der Gemeinschaft werden Tipps und Tricks ausgetauscht. \n  \n 
URL:https://soziokulturelles-zentrum.de/event/offener-handarbeits-treff-2-2/2030-08-12/
LOCATION:Begegnungsstätte\, Kosebruchweg 14\, Delitzsch\, Sachsen\, 04509\, Deutschland
CATEGORIES:Kurse / Workshops
ATTACH;FMTTYPE=image/png:https://soziokulturelles-zentrum.de/wp-content/uploads/2025/06/Handarbeitsterff.png
END:VEVENT
BEGIN:VEVENT
DTSTART;TZID=Europe/Berlin:20300814T130000
DTEND;TZID=Europe/Berlin:20300814T170000
DTSTAMP:20260424T114744
CREATED:20260209T083144Z
LAST-MODIFIED:20260209T083145Z
UID:10002968-1912942800-1912957200@soziokulturelles-zentrum.de
SUMMARY:Spielenachmittag
DESCRIPTION:
URL:https://soziokulturelles-zentrum.de/event/spielenachmittag-2/2030-08-14/
LOCATION:Begegnungsstätte\, Kosebruchweg 14\, Delitzsch\, Sachsen\, 04509\, Deutschland
CATEGORIES:Kurse / Workshops
ATTACH;FMTTYPE=image/png:https://soziokulturelles-zentrum.de/wp-content/uploads/2024/06/Spielenachmittag-Facebook-Post.png
END:VEVENT
BEGIN:VEVENT
DTSTART;TZID=Europe/Berlin:20300814T140000
DTEND;TZID=Europe/Berlin:20300814T160000
DTSTAMP:20260424T114744
CREATED:20251204T092437Z
LAST-MODIFIED:20251204T092605Z
UID:10002818-1912946400-1912953600@soziokulturelles-zentrum.de
SUMMARY:Demenz Beschäftigung - Aktive Momente voller Liebe
DESCRIPTION:
URL:https://soziokulturelles-zentrum.de/event/demenz-beschaeftigung-aktive-momente-voller-liebe-2/2030-08-14/
LOCATION:Begegnungsstätte\, Kosebruchweg 14\, Delitzsch\, Sachsen\, 04509\, Deutschland
CATEGORIES:Demenz
ATTACH;FMTTYPE=image/webp:https://soziokulturelles-zentrum.de/wp-content/uploads/2025/10/Demenzbeschaeftigung-neu-scaled.webp
ORGANIZER;CN="Demenznetz Delitzsch":MAILTO:info@demenznetz-delitzsch.de
END:VEVENT
BEGIN:VEVENT
DTSTART;TZID=Europe/Berlin:20300819T130000
DTEND;TZID=Europe/Berlin:20300819T153000
DTSTAMP:20260424T114744
CREATED:20260209T081608Z
LAST-MODIFIED:20260209T081608Z
UID:10002897-1913374800-1913383800@soziokulturelles-zentrum.de
SUMMARY:offener Handarbeits-Treff
DESCRIPTION:Bei uns sind alle willkommen – gern auch jüngere Interessierte ohne Vorkenntnisse. In der Gemeinschaft werden Tipps und Tricks ausgetauscht. \n  \n 
URL:https://soziokulturelles-zentrum.de/event/offener-handarbeits-treff-2-2/2030-08-19/
LOCATION:Begegnungsstätte\, Kosebruchweg 14\, Delitzsch\, Sachsen\, 04509\, Deutschland
CATEGORIES:Kurse / Workshops
ATTACH;FMTTYPE=image/png:https://soziokulturelles-zentrum.de/wp-content/uploads/2025/06/Handarbeitsterff.png
END:VEVENT
BEGIN:VEVENT
DTSTART;TZID=Europe/Berlin:20300821T130000
DTEND;TZID=Europe/Berlin:20300821T170000
DTSTAMP:20260424T114744
CREATED:20260209T083144Z
LAST-MODIFIED:20260209T083145Z
UID:10002969-1913547600-1913562000@soziokulturelles-zentrum.de
SUMMARY:Spielenachmittag
DESCRIPTION:
URL:https://soziokulturelles-zentrum.de/event/spielenachmittag-2/2030-08-21/
LOCATION:Begegnungsstätte\, Kosebruchweg 14\, Delitzsch\, Sachsen\, 04509\, Deutschland
CATEGORIES:Kurse / Workshops
ATTACH;FMTTYPE=image/png:https://soziokulturelles-zentrum.de/wp-content/uploads/2024/06/Spielenachmittag-Facebook-Post.png
END:VEVENT
BEGIN:VEVENT
DTSTART;TZID=Europe/Berlin:20300826T130000
DTEND;TZID=Europe/Berlin:20300826T153000
DTSTAMP:20260424T114744
CREATED:20260209T081608Z
LAST-MODIFIED:20260209T081608Z
UID:10002898-1913979600-1913988600@soziokulturelles-zentrum.de
SUMMARY:offener Handarbeits-Treff
DESCRIPTION:Bei uns sind alle willkommen – gern auch jüngere Interessierte ohne Vorkenntnisse. In der Gemeinschaft werden Tipps und Tricks ausgetauscht. \n  \n 
URL:https://soziokulturelles-zentrum.de/event/offener-handarbeits-treff-2-2/2030-08-26/
LOCATION:Begegnungsstätte\, Kosebruchweg 14\, Delitzsch\, Sachsen\, 04509\, Deutschland
CATEGORIES:Kurse / Workshops
ATTACH;FMTTYPE=image/png:https://soziokulturelles-zentrum.de/wp-content/uploads/2025/06/Handarbeitsterff.png
END:VEVENT
BEGIN:VEVENT
DTSTART;TZID=Europe/Berlin:20300828T130000
DTEND;TZID=Europe/Berlin:20300828T170000
DTSTAMP:20260424T114744
CREATED:20260209T083144Z
LAST-MODIFIED:20260209T083145Z
UID:10002970-1914152400-1914166800@soziokulturelles-zentrum.de
SUMMARY:Spielenachmittag
DESCRIPTION:
URL:https://soziokulturelles-zentrum.de/event/spielenachmittag-2/2030-08-28/
LOCATION:Begegnungsstätte\, Kosebruchweg 14\, Delitzsch\, Sachsen\, 04509\, Deutschland
CATEGORIES:Kurse / Workshops
ATTACH;FMTTYPE=image/png:https://soziokulturelles-zentrum.de/wp-content/uploads/2024/06/Spielenachmittag-Facebook-Post.png
END:VEVENT
BEGIN:VEVENT
DTSTART;TZID=Europe/Berlin:20300828T140000
DTEND;TZID=Europe/Berlin:20300828T160000
DTSTAMP:20260424T114745
CREATED:20251204T092437Z
LAST-MODIFIED:20251204T092605Z
UID:10002819-1914156000-1914163200@soziokulturelles-zentrum.de
SUMMARY:Demenz Beschäftigung - Aktive Momente voller Liebe
DESCRIPTION:
URL:https://soziokulturelles-zentrum.de/event/demenz-beschaeftigung-aktive-momente-voller-liebe-2/2030-08-28/
LOCATION:Begegnungsstätte\, Kosebruchweg 14\, Delitzsch\, Sachsen\, 04509\, Deutschland
CATEGORIES:Demenz
ATTACH;FMTTYPE=image/webp:https://soziokulturelles-zentrum.de/wp-content/uploads/2025/10/Demenzbeschaeftigung-neu-scaled.webp
ORGANIZER;CN="Demenznetz Delitzsch":MAILTO:info@demenznetz-delitzsch.de
END:VEVENT
BEGIN:VEVENT
DTSTART;TZID=Europe/Berlin:20300902T130000
DTEND;TZID=Europe/Berlin:20300902T153000
DTSTAMP:20260424T114745
CREATED:20260209T081608Z
LAST-MODIFIED:20260209T081608Z
UID:10002899-1914584400-1914593400@soziokulturelles-zentrum.de
SUMMARY:offener Handarbeits-Treff
DESCRIPTION:Bei uns sind alle willkommen – gern auch jüngere Interessierte ohne Vorkenntnisse. In der Gemeinschaft werden Tipps und Tricks ausgetauscht. \n  \n 
URL:https://soziokulturelles-zentrum.de/event/offener-handarbeits-treff-2-2/2030-09-02/
LOCATION:Begegnungsstätte\, Kosebruchweg 14\, Delitzsch\, Sachsen\, 04509\, Deutschland
CATEGORIES:Kurse / Workshops
ATTACH;FMTTYPE=image/png:https://soziokulturelles-zentrum.de/wp-content/uploads/2025/06/Handarbeitsterff.png
END:VEVENT
BEGIN:VEVENT
DTSTART;TZID=Europe/Berlin:20300904T130000
DTEND;TZID=Europe/Berlin:20300904T170000
DTSTAMP:20260424T114745
CREATED:20260209T083144Z
LAST-MODIFIED:20260209T083145Z
UID:10002971-1914757200-1914771600@soziokulturelles-zentrum.de
SUMMARY:Spielenachmittag
DESCRIPTION:
URL:https://soziokulturelles-zentrum.de/event/spielenachmittag-2/2030-09-04/
LOCATION:Begegnungsstätte\, Kosebruchweg 14\, Delitzsch\, Sachsen\, 04509\, Deutschland
CATEGORIES:Kurse / Workshops
ATTACH;FMTTYPE=image/png:https://soziokulturelles-zentrum.de/wp-content/uploads/2024/06/Spielenachmittag-Facebook-Post.png
END:VEVENT
BEGIN:VEVENT
DTSTART;TZID=Europe/Berlin:20300909T130000
DTEND;TZID=Europe/Berlin:20300909T153000
DTSTAMP:20260424T114745
CREATED:20260209T081608Z
LAST-MODIFIED:20260209T081608Z
UID:10002900-1915189200-1915198200@soziokulturelles-zentrum.de
SUMMARY:offener Handarbeits-Treff
DESCRIPTION:Bei uns sind alle willkommen – gern auch jüngere Interessierte ohne Vorkenntnisse. In der Gemeinschaft werden Tipps und Tricks ausgetauscht. \n  \n 
URL:https://soziokulturelles-zentrum.de/event/offener-handarbeits-treff-2-2/2030-09-09/
LOCATION:Begegnungsstätte\, Kosebruchweg 14\, Delitzsch\, Sachsen\, 04509\, Deutschland
CATEGORIES:Kurse / Workshops
ATTACH;FMTTYPE=image/png:https://soziokulturelles-zentrum.de/wp-content/uploads/2025/06/Handarbeitsterff.png
END:VEVENT
BEGIN:VEVENT
DTSTART;TZID=Europe/Berlin:20300911T130000
DTEND;TZID=Europe/Berlin:20300911T170000
DTSTAMP:20260424T114745
CREATED:20260209T083144Z
LAST-MODIFIED:20260209T083145Z
UID:10002972-1915362000-1915376400@soziokulturelles-zentrum.de
SUMMARY:Spielenachmittag
DESCRIPTION:
URL:https://soziokulturelles-zentrum.de/event/spielenachmittag-2/2030-09-11/
LOCATION:Begegnungsstätte\, Kosebruchweg 14\, Delitzsch\, Sachsen\, 04509\, Deutschland
CATEGORIES:Kurse / Workshops
ATTACH;FMTTYPE=image/png:https://soziokulturelles-zentrum.de/wp-content/uploads/2024/06/Spielenachmittag-Facebook-Post.png
END:VEVENT
BEGIN:VEVENT
DTSTART;TZID=Europe/Berlin:20300911T140000
DTEND;TZID=Europe/Berlin:20300911T160000
DTSTAMP:20260424T114745
CREATED:20251204T092437Z
LAST-MODIFIED:20251204T092605Z
UID:10002820-1915365600-1915372800@soziokulturelles-zentrum.de
SUMMARY:Demenz Beschäftigung - Aktive Momente voller Liebe
DESCRIPTION:
URL:https://soziokulturelles-zentrum.de/event/demenz-beschaeftigung-aktive-momente-voller-liebe-2/2030-09-11/
LOCATION:Begegnungsstätte\, Kosebruchweg 14\, Delitzsch\, Sachsen\, 04509\, Deutschland
CATEGORIES:Demenz
ATTACH;FMTTYPE=image/webp:https://soziokulturelles-zentrum.de/wp-content/uploads/2025/10/Demenzbeschaeftigung-neu-scaled.webp
ORGANIZER;CN="Demenznetz Delitzsch":MAILTO:info@demenznetz-delitzsch.de
END:VEVENT
BEGIN:VEVENT
DTSTART;TZID=Europe/Berlin:20300916T130000
DTEND;TZID=Europe/Berlin:20300916T153000
DTSTAMP:20260424T114745
CREATED:20260209T081608Z
LAST-MODIFIED:20260209T081608Z
UID:10002901-1915794000-1915803000@soziokulturelles-zentrum.de
SUMMARY:offener Handarbeits-Treff
DESCRIPTION:Bei uns sind alle willkommen – gern auch jüngere Interessierte ohne Vorkenntnisse. In der Gemeinschaft werden Tipps und Tricks ausgetauscht. \n  \n 
URL:https://soziokulturelles-zentrum.de/event/offener-handarbeits-treff-2-2/2030-09-16/
LOCATION:Begegnungsstätte\, Kosebruchweg 14\, Delitzsch\, Sachsen\, 04509\, Deutschland
CATEGORIES:Kurse / Workshops
ATTACH;FMTTYPE=image/png:https://soziokulturelles-zentrum.de/wp-content/uploads/2025/06/Handarbeitsterff.png
END:VEVENT
BEGIN:VEVENT
DTSTART;TZID=Europe/Berlin:20300918T130000
DTEND;TZID=Europe/Berlin:20300918T170000
DTSTAMP:20260424T114745
CREATED:20260209T083144Z
LAST-MODIFIED:20260209T083145Z
UID:10002973-1915966800-1915981200@soziokulturelles-zentrum.de
SUMMARY:Spielenachmittag
DESCRIPTION:
URL:https://soziokulturelles-zentrum.de/event/spielenachmittag-2/2030-09-18/
LOCATION:Begegnungsstätte\, Kosebruchweg 14\, Delitzsch\, Sachsen\, 04509\, Deutschland
CATEGORIES:Kurse / Workshops
ATTACH;FMTTYPE=image/png:https://soziokulturelles-zentrum.de/wp-content/uploads/2024/06/Spielenachmittag-Facebook-Post.png
END:VEVENT
BEGIN:VEVENT
DTSTART;TZID=Europe/Berlin:20300923T130000
DTEND;TZID=Europe/Berlin:20300923T153000
DTSTAMP:20260424T114745
CREATED:20260209T081608Z
LAST-MODIFIED:20260209T081608Z
UID:10002902-1916398800-1916407800@soziokulturelles-zentrum.de
SUMMARY:offener Handarbeits-Treff
DESCRIPTION:Bei uns sind alle willkommen – gern auch jüngere Interessierte ohne Vorkenntnisse. In der Gemeinschaft werden Tipps und Tricks ausgetauscht. \n  \n 
URL:https://soziokulturelles-zentrum.de/event/offener-handarbeits-treff-2-2/2030-09-23/
LOCATION:Begegnungsstätte\, Kosebruchweg 14\, Delitzsch\, Sachsen\, 04509\, Deutschland
CATEGORIES:Kurse / Workshops
ATTACH;FMTTYPE=image/png:https://soziokulturelles-zentrum.de/wp-content/uploads/2025/06/Handarbeitsterff.png
END:VEVENT
BEGIN:VEVENT
DTSTART;TZID=Europe/Berlin:20300925T130000
DTEND;TZID=Europe/Berlin:20300925T170000
DTSTAMP:20260424T114745
CREATED:20260209T083144Z
LAST-MODIFIED:20260209T083145Z
UID:10002974-1916571600-1916586000@soziokulturelles-zentrum.de
SUMMARY:Spielenachmittag
DESCRIPTION:
URL:https://soziokulturelles-zentrum.de/event/spielenachmittag-2/2030-09-25/
LOCATION:Begegnungsstätte\, Kosebruchweg 14\, Delitzsch\, Sachsen\, 04509\, Deutschland
CATEGORIES:Kurse / Workshops
ATTACH;FMTTYPE=image/png:https://soziokulturelles-zentrum.de/wp-content/uploads/2024/06/Spielenachmittag-Facebook-Post.png
END:VEVENT
BEGIN:VEVENT
DTSTART;TZID=Europe/Berlin:20300925T140000
DTEND;TZID=Europe/Berlin:20300925T160000
DTSTAMP:20260424T114745
CREATED:20251204T092437Z
LAST-MODIFIED:20251204T092605Z
UID:10002821-1916575200-1916582400@soziokulturelles-zentrum.de
SUMMARY:Demenz Beschäftigung - Aktive Momente voller Liebe
DESCRIPTION:
URL:https://soziokulturelles-zentrum.de/event/demenz-beschaeftigung-aktive-momente-voller-liebe-2/2030-09-25/
LOCATION:Begegnungsstätte\, Kosebruchweg 14\, Delitzsch\, Sachsen\, 04509\, Deutschland
CATEGORIES:Demenz
ATTACH;FMTTYPE=image/webp:https://soziokulturelles-zentrum.de/wp-content/uploads/2025/10/Demenzbeschaeftigung-neu-scaled.webp
ORGANIZER;CN="Demenznetz Delitzsch":MAILTO:info@demenznetz-delitzsch.de
END:VEVENT
BEGIN:VEVENT
DTSTART;TZID=Europe/Berlin:20300930T130000
DTEND;TZID=Europe/Berlin:20300930T153000
DTSTAMP:20260424T114745
CREATED:20260209T081608Z
LAST-MODIFIED:20260209T081608Z
UID:10002903-1917003600-1917012600@soziokulturelles-zentrum.de
SUMMARY:offener Handarbeits-Treff
DESCRIPTION:Bei uns sind alle willkommen – gern auch jüngere Interessierte ohne Vorkenntnisse. In der Gemeinschaft werden Tipps und Tricks ausgetauscht. \n  \n 
URL:https://soziokulturelles-zentrum.de/event/offener-handarbeits-treff-2-2/2030-09-30/
LOCATION:Begegnungsstätte\, Kosebruchweg 14\, Delitzsch\, Sachsen\, 04509\, Deutschland
CATEGORIES:Kurse / Workshops
ATTACH;FMTTYPE=image/png:https://soziokulturelles-zentrum.de/wp-content/uploads/2025/06/Handarbeitsterff.png
END:VEVENT
BEGIN:VEVENT
DTSTART;TZID=Europe/Berlin:20301002T130000
DTEND;TZID=Europe/Berlin:20301002T170000
DTSTAMP:20260424T114745
CREATED:20260209T083144Z
LAST-MODIFIED:20260209T083145Z
UID:10002975-1917176400-1917190800@soziokulturelles-zentrum.de
SUMMARY:Spielenachmittag
DESCRIPTION:
URL:https://soziokulturelles-zentrum.de/event/spielenachmittag-2/2030-10-02/
LOCATION:Begegnungsstätte\, Kosebruchweg 14\, Delitzsch\, Sachsen\, 04509\, Deutschland
CATEGORIES:Kurse / Workshops
ATTACH;FMTTYPE=image/png:https://soziokulturelles-zentrum.de/wp-content/uploads/2024/06/Spielenachmittag-Facebook-Post.png
END:VEVENT
BEGIN:VEVENT
DTSTART;TZID=Europe/Berlin:20301007T130000
DTEND;TZID=Europe/Berlin:20301007T153000
DTSTAMP:20260424T114745
CREATED:20260209T081608Z
LAST-MODIFIED:20260209T081608Z
UID:10002904-1917608400-1917617400@soziokulturelles-zentrum.de
SUMMARY:offener Handarbeits-Treff
DESCRIPTION:Bei uns sind alle willkommen – gern auch jüngere Interessierte ohne Vorkenntnisse. In der Gemeinschaft werden Tipps und Tricks ausgetauscht. \n  \n 
URL:https://soziokulturelles-zentrum.de/event/offener-handarbeits-treff-2-2/2030-10-07/
LOCATION:Begegnungsstätte\, Kosebruchweg 14\, Delitzsch\, Sachsen\, 04509\, Deutschland
CATEGORIES:Kurse / Workshops
ATTACH;FMTTYPE=image/png:https://soziokulturelles-zentrum.de/wp-content/uploads/2025/06/Handarbeitsterff.png
END:VEVENT
BEGIN:VEVENT
DTSTART;TZID=Europe/Berlin:20301009T130000
DTEND;TZID=Europe/Berlin:20301009T170000
DTSTAMP:20260424T114745
CREATED:20260209T083144Z
LAST-MODIFIED:20260209T083145Z
UID:10002976-1917781200-1917795600@soziokulturelles-zentrum.de
SUMMARY:Spielenachmittag
DESCRIPTION:
URL:https://soziokulturelles-zentrum.de/event/spielenachmittag-2/2030-10-09/
LOCATION:Begegnungsstätte\, Kosebruchweg 14\, Delitzsch\, Sachsen\, 04509\, Deutschland
CATEGORIES:Kurse / Workshops
ATTACH;FMTTYPE=image/png:https://soziokulturelles-zentrum.de/wp-content/uploads/2024/06/Spielenachmittag-Facebook-Post.png
END:VEVENT
END:VCALENDAR