BEGIN:VCALENDAR
VERSION:2.0
PRODID:-//Soziokulturelles Zentrum e.V. - ECPv6.15.20//NONSGML v1.0//EN
CALSCALE:GREGORIAN
METHOD:PUBLISH
X-ORIGINAL-URL:https://soziokulturelles-zentrum.de
X-WR-CALDESC:Veranstaltungen für Soziokulturelles Zentrum e.V.
REFRESH-INTERVAL;VALUE=DURATION:PT1H
X-Robots-Tag:noindex
X-PUBLISHED-TTL:PT1H
BEGIN:VTIMEZONE
TZID:Europe/Berlin
BEGIN:DAYLIGHT
TZOFFSETFROM:+0100
TZOFFSETTO:+0200
TZNAME:CEST
DTSTART:20240331T010000
END:DAYLIGHT
BEGIN:STANDARD
TZOFFSETFROM:+0200
TZOFFSETTO:+0100
TZNAME:CET
DTSTART:20241027T010000
END:STANDARD
BEGIN:DAYLIGHT
TZOFFSETFROM:+0100
TZOFFSETTO:+0200
TZNAME:CEST
DTSTART:20250330T010000
END:DAYLIGHT
BEGIN:STANDARD
TZOFFSETFROM:+0200
TZOFFSETTO:+0100
TZNAME:CET
DTSTART:20251026T010000
END:STANDARD
BEGIN:DAYLIGHT
TZOFFSETFROM:+0100
TZOFFSETTO:+0200
TZNAME:CEST
DTSTART:20260329T010000
END:DAYLIGHT
BEGIN:STANDARD
TZOFFSETFROM:+0200
TZOFFSETTO:+0100
TZNAME:CET
DTSTART:20261025T010000
END:STANDARD
END:VTIMEZONE
BEGIN:VEVENT
DTSTART;TZID=Europe/Berlin:20250708T140000
DTEND;TZID=Europe/Berlin:20250708T170000
DTSTAMP:20260421T104744
CREATED:20240612T092314Z
LAST-MODIFIED:20240612T092314Z
UID:10000762-1751983200-1751994000@soziokulturelles-zentrum.de
SUMMARY:Geselliger Nachmittag im Amselnest
DESCRIPTION:
URL:https://soziokulturelles-zentrum.de/event/geselliger-nachmittag-im-amselnest/2025-07-08/
LOCATION:Amselnest\, Amselweg 5\, Delitzsch\, Sachsen\, 04509\, Deutschland
END:VEVENT
BEGIN:VEVENT
DTSTART;TZID=Europe/Berlin:20250701T140000
DTEND;TZID=Europe/Berlin:20250701T170000
DTSTAMP:20260421T104744
CREATED:20240612T092314Z
LAST-MODIFIED:20240612T092314Z
UID:10000761-1751378400-1751389200@soziokulturelles-zentrum.de
SUMMARY:Geselliger Nachmittag im Amselnest
DESCRIPTION:
URL:https://soziokulturelles-zentrum.de/event/geselliger-nachmittag-im-amselnest/2025-07-01/
LOCATION:Amselnest\, Amselweg 5\, Delitzsch\, Sachsen\, 04509\, Deutschland
END:VEVENT
BEGIN:VEVENT
DTSTART;TZID=Europe/Berlin:20250624T140000
DTEND;TZID=Europe/Berlin:20250624T170000
DTSTAMP:20260421T104744
CREATED:20240612T092314Z
LAST-MODIFIED:20240612T092314Z
UID:10000760-1750773600-1750784400@soziokulturelles-zentrum.de
SUMMARY:Geselliger Nachmittag im Amselnest
DESCRIPTION:
URL:https://soziokulturelles-zentrum.de/event/geselliger-nachmittag-im-amselnest/2025-06-24/
LOCATION:Amselnest\, Amselweg 5\, Delitzsch\, Sachsen\, 04509\, Deutschland
END:VEVENT
BEGIN:VEVENT
DTSTART;TZID=Europe/Berlin:20250617T140000
DTEND;TZID=Europe/Berlin:20250617T170000
DTSTAMP:20260421T104744
CREATED:20240612T092314Z
LAST-MODIFIED:20240612T092314Z
UID:10000759-1750168800-1750179600@soziokulturelles-zentrum.de
SUMMARY:Geselliger Nachmittag im Amselnest
DESCRIPTION:
URL:https://soziokulturelles-zentrum.de/event/geselliger-nachmittag-im-amselnest/2025-06-17/
LOCATION:Amselnest\, Amselweg 5\, Delitzsch\, Sachsen\, 04509\, Deutschland
END:VEVENT
BEGIN:VEVENT
DTSTART;TZID=Europe/Berlin:20250610T140000
DTEND;TZID=Europe/Berlin:20250610T170000
DTSTAMP:20260421T104744
CREATED:20240612T092314Z
LAST-MODIFIED:20240612T092314Z
UID:10000758-1749564000-1749574800@soziokulturelles-zentrum.de
SUMMARY:Geselliger Nachmittag im Amselnest
DESCRIPTION:
URL:https://soziokulturelles-zentrum.de/event/geselliger-nachmittag-im-amselnest/2025-06-10/
LOCATION:Amselnest\, Amselweg 5\, Delitzsch\, Sachsen\, 04509\, Deutschland
END:VEVENT
BEGIN:VEVENT
DTSTART;TZID=Europe/Berlin:20250603T140000
DTEND;TZID=Europe/Berlin:20250603T170000
DTSTAMP:20260421T104744
CREATED:20240612T092314Z
LAST-MODIFIED:20240612T092314Z
UID:10000757-1748959200-1748970000@soziokulturelles-zentrum.de
SUMMARY:Geselliger Nachmittag im Amselnest
DESCRIPTION:
URL:https://soziokulturelles-zentrum.de/event/geselliger-nachmittag-im-amselnest/2025-06-03/
LOCATION:Amselnest\, Amselweg 5\, Delitzsch\, Sachsen\, 04509\, Deutschland
END:VEVENT
BEGIN:VEVENT
DTSTART;TZID=Europe/Berlin:20250527T140000
DTEND;TZID=Europe/Berlin:20250527T170000
DTSTAMP:20260421T104744
CREATED:20240612T092314Z
LAST-MODIFIED:20240612T092314Z
UID:10000756-1748354400-1748365200@soziokulturelles-zentrum.de
SUMMARY:Geselliger Nachmittag im Amselnest
DESCRIPTION:
URL:https://soziokulturelles-zentrum.de/event/geselliger-nachmittag-im-amselnest/2025-05-27/
LOCATION:Amselnest\, Amselweg 5\, Delitzsch\, Sachsen\, 04509\, Deutschland
END:VEVENT
BEGIN:VEVENT
DTSTART;TZID=Europe/Berlin:20250520T140000
DTEND;TZID=Europe/Berlin:20250520T170000
DTSTAMP:20260421T104744
CREATED:20240612T092314Z
LAST-MODIFIED:20240612T092314Z
UID:10000755-1747749600-1747760400@soziokulturelles-zentrum.de
SUMMARY:Geselliger Nachmittag im Amselnest
DESCRIPTION:
URL:https://soziokulturelles-zentrum.de/event/geselliger-nachmittag-im-amselnest/2025-05-20/
LOCATION:Amselnest\, Amselweg 5\, Delitzsch\, Sachsen\, 04509\, Deutschland
END:VEVENT
BEGIN:VEVENT
DTSTART;TZID=Europe/Berlin:20250515T140000
DTEND;TZID=Europe/Berlin:20250515T170000
DTSTAMP:20260421T104744
CREATED:20241202T092658Z
LAST-MODIFIED:20241202T092658Z
UID:10001351-1747317600-1747328400@soziokulturelles-zentrum.de
SUMMARY:Angrillen mit Maibowle
DESCRIPTION:Die Temperaturen werden wärmer und das Wetter lädt zum verweilen in der Natur ein. Dies wollen wir mit Angrillen und Maibowle gebührend feiern.
URL:https://soziokulturelles-zentrum.de/event/angrillen-mit-maibowle/
LOCATION:Amselnest\, Amselweg 5\, Delitzsch\, Sachsen\, 04509\, Deutschland
END:VEVENT
BEGIN:VEVENT
DTSTART;TZID=Europe/Berlin:20250513T140000
DTEND;TZID=Europe/Berlin:20250513T170000
DTSTAMP:20260421T104744
CREATED:20240612T092314Z
LAST-MODIFIED:20240612T092314Z
UID:10000754-1747144800-1747155600@soziokulturelles-zentrum.de
SUMMARY:Geselliger Nachmittag im Amselnest
DESCRIPTION:
URL:https://soziokulturelles-zentrum.de/event/geselliger-nachmittag-im-amselnest/2025-05-13/
LOCATION:Amselnest\, Amselweg 5\, Delitzsch\, Sachsen\, 04509\, Deutschland
END:VEVENT
BEGIN:VEVENT
DTSTART;TZID=Europe/Berlin:20250506T140000
DTEND;TZID=Europe/Berlin:20250506T170000
DTSTAMP:20260421T104744
CREATED:20240612T092314Z
LAST-MODIFIED:20240612T092314Z
UID:10000753-1746540000-1746550800@soziokulturelles-zentrum.de
SUMMARY:Geselliger Nachmittag im Amselnest
DESCRIPTION:
URL:https://soziokulturelles-zentrum.de/event/geselliger-nachmittag-im-amselnest/2025-05-06/
LOCATION:Amselnest\, Amselweg 5\, Delitzsch\, Sachsen\, 04509\, Deutschland
END:VEVENT
BEGIN:VEVENT
DTSTART;TZID=Europe/Berlin:20250429T140000
DTEND;TZID=Europe/Berlin:20250429T170000
DTSTAMP:20260421T104744
CREATED:20240612T092314Z
LAST-MODIFIED:20240612T092314Z
UID:10000752-1745935200-1745946000@soziokulturelles-zentrum.de
SUMMARY:Geselliger Nachmittag im Amselnest
DESCRIPTION:
URL:https://soziokulturelles-zentrum.de/event/geselliger-nachmittag-im-amselnest/2025-04-29/
LOCATION:Amselnest\, Amselweg 5\, Delitzsch\, Sachsen\, 04509\, Deutschland
END:VEVENT
BEGIN:VEVENT
DTSTART;TZID=Europe/Berlin:20250422T140000
DTEND;TZID=Europe/Berlin:20250422T170000
DTSTAMP:20260421T104744
CREATED:20240612T092314Z
LAST-MODIFIED:20240612T092314Z
UID:10000751-1745330400-1745341200@soziokulturelles-zentrum.de
SUMMARY:Geselliger Nachmittag im Amselnest
DESCRIPTION:
URL:https://soziokulturelles-zentrum.de/event/geselliger-nachmittag-im-amselnest/2025-04-22/
LOCATION:Amselnest\, Amselweg 5\, Delitzsch\, Sachsen\, 04509\, Deutschland
END:VEVENT
BEGIN:VEVENT
DTSTART;TZID=Europe/Berlin:20250415T140000
DTEND;TZID=Europe/Berlin:20250415T170000
DTSTAMP:20260421T104744
CREATED:20240612T092314Z
LAST-MODIFIED:20240612T092314Z
UID:10000750-1744725600-1744736400@soziokulturelles-zentrum.de
SUMMARY:Geselliger Nachmittag im Amselnest
DESCRIPTION:
URL:https://soziokulturelles-zentrum.de/event/geselliger-nachmittag-im-amselnest/2025-04-15/
LOCATION:Amselnest\, Amselweg 5\, Delitzsch\, Sachsen\, 04509\, Deutschland
END:VEVENT
BEGIN:VEVENT
DTSTART;TZID=Europe/Berlin:20250408T140000
DTEND;TZID=Europe/Berlin:20250408T170000
DTSTAMP:20260421T104744
CREATED:20240612T092314Z
LAST-MODIFIED:20240612T092314Z
UID:10000749-1744120800-1744131600@soziokulturelles-zentrum.de
SUMMARY:Geselliger Nachmittag im Amselnest
DESCRIPTION:
URL:https://soziokulturelles-zentrum.de/event/geselliger-nachmittag-im-amselnest/2025-04-08/
LOCATION:Amselnest\, Amselweg 5\, Delitzsch\, Sachsen\, 04509\, Deutschland
END:VEVENT
BEGIN:VEVENT
DTSTART;TZID=Europe/Berlin:20250401T140000
DTEND;TZID=Europe/Berlin:20250401T170000
DTSTAMP:20260421T104744
CREATED:20240612T092314Z
LAST-MODIFIED:20240612T092314Z
UID:10000748-1743516000-1743526800@soziokulturelles-zentrum.de
SUMMARY:Geselliger Nachmittag im Amselnest
DESCRIPTION:
URL:https://soziokulturelles-zentrum.de/event/geselliger-nachmittag-im-amselnest/2025-04-01/
LOCATION:Amselnest\, Amselweg 5\, Delitzsch\, Sachsen\, 04509\, Deutschland
END:VEVENT
BEGIN:VEVENT
DTSTART;TZID=Europe/Berlin:20250325T140000
DTEND;TZID=Europe/Berlin:20250325T170000
DTSTAMP:20260421T104744
CREATED:20240612T092314Z
LAST-MODIFIED:20240612T092314Z
UID:10000747-1742911200-1742922000@soziokulturelles-zentrum.de
SUMMARY:Geselliger Nachmittag im Amselnest
DESCRIPTION:
URL:https://soziokulturelles-zentrum.de/event/geselliger-nachmittag-im-amselnest/2025-03-25/
LOCATION:Amselnest\, Amselweg 5\, Delitzsch\, Sachsen\, 04509\, Deutschland
END:VEVENT
BEGIN:VEVENT
DTSTART;TZID=Europe/Berlin:20250318T140000
DTEND;TZID=Europe/Berlin:20250318T170000
DTSTAMP:20260421T104744
CREATED:20240612T092314Z
LAST-MODIFIED:20240612T092314Z
UID:10000746-1742306400-1742317200@soziokulturelles-zentrum.de
SUMMARY:Geselliger Nachmittag im Amselnest
DESCRIPTION:
URL:https://soziokulturelles-zentrum.de/event/geselliger-nachmittag-im-amselnest/2025-03-18/
LOCATION:Amselnest\, Amselweg 5\, Delitzsch\, Sachsen\, 04509\, Deutschland
END:VEVENT
BEGIN:VEVENT
DTSTART;TZID=Europe/Berlin:20250313T140000
DTEND;TZID=Europe/Berlin:20250313T170000
DTSTAMP:20260421T104744
CREATED:20241202T092607Z
LAST-MODIFIED:20241202T092607Z
UID:10001350-1741874400-1741885200@soziokulturelles-zentrum.de
SUMMARY:Frauentagsfeier
DESCRIPTION:Gemeinsam wollen wir den Frauentag\, welcher am 8. März begangen wird\, feiern.
URL:https://soziokulturelles-zentrum.de/event/frauentagsfeier-2/
LOCATION:Amselnest\, Amselweg 5\, Delitzsch\, Sachsen\, 04509\, Deutschland
END:VEVENT
BEGIN:VEVENT
DTSTART;TZID=Europe/Berlin:20250311T140000
DTEND;TZID=Europe/Berlin:20250311T170000
DTSTAMP:20260421T104744
CREATED:20240612T092314Z
LAST-MODIFIED:20240612T092314Z
UID:10000745-1741701600-1741712400@soziokulturelles-zentrum.de
SUMMARY:Geselliger Nachmittag im Amselnest
DESCRIPTION:
URL:https://soziokulturelles-zentrum.de/event/geselliger-nachmittag-im-amselnest/2025-03-11/
LOCATION:Amselnest\, Amselweg 5\, Delitzsch\, Sachsen\, 04509\, Deutschland
END:VEVENT
BEGIN:VEVENT
DTSTART;TZID=Europe/Berlin:20250307T140000
DTEND;TZID=Europe/Berlin:20250307T170000
DTSTAMP:20260421T104744
CREATED:20250220T085635Z
LAST-MODIFIED:20250220T085635Z
UID:10001672-1741356000-1741366800@soziokulturelles-zentrum.de
SUMMARY:Lesung anlässlich des Internationalen Frauentages in Delitzsch
DESCRIPTION:
URL:https://soziokulturelles-zentrum.de/event/lesung-anlaesslich-des-internationalen-frauentages-in-delitzsch/
LOCATION:Amselnest\, Amselweg 5\, Delitzsch\, Sachsen\, 04509\, Deutschland
ATTACH;FMTTYPE=image/png:https://soziokulturelles-zentrum.de/wp-content/uploads/2025/02/LRA-Frauentagsfeier.png
END:VEVENT
BEGIN:VEVENT
DTSTART;TZID=Europe/Berlin:20250304T140000
DTEND;TZID=Europe/Berlin:20250304T170000
DTSTAMP:20260421T104744
CREATED:20240612T092314Z
LAST-MODIFIED:20240612T092314Z
UID:10000744-1741096800-1741107600@soziokulturelles-zentrum.de
SUMMARY:Geselliger Nachmittag im Amselnest
DESCRIPTION:
URL:https://soziokulturelles-zentrum.de/event/geselliger-nachmittag-im-amselnest/2025-03-04/
LOCATION:Amselnest\, Amselweg 5\, Delitzsch\, Sachsen\, 04509\, Deutschland
END:VEVENT
BEGIN:VEVENT
DTSTART;TZID=Europe/Berlin:20250225T140000
DTEND;TZID=Europe/Berlin:20250225T170000
DTSTAMP:20260421T104744
CREATED:20240612T092314Z
LAST-MODIFIED:20240612T092314Z
UID:10000743-1740492000-1740502800@soziokulturelles-zentrum.de
SUMMARY:Geselliger Nachmittag im Amselnest
DESCRIPTION:
URL:https://soziokulturelles-zentrum.de/event/geselliger-nachmittag-im-amselnest/2025-02-25/
LOCATION:Amselnest\, Amselweg 5\, Delitzsch\, Sachsen\, 04509\, Deutschland
END:VEVENT
BEGIN:VEVENT
DTSTART;TZID=Europe/Berlin:20250220T140000
DTEND;TZID=Europe/Berlin:20250220T170000
DTSTAMP:20260421T104744
CREATED:20241202T092438Z
LAST-MODIFIED:20241202T092438Z
UID:10001349-1740060000-1740070800@soziokulturelles-zentrum.de
SUMMARY:Fasching
DESCRIPTION:Wir begehen die närrische Zeit und feiern gemeinsam Fasching.
URL:https://soziokulturelles-zentrum.de/event/fasching/
LOCATION:Amselnest\, Amselweg 5\, Delitzsch\, Sachsen\, 04509\, Deutschland
END:VEVENT
BEGIN:VEVENT
DTSTART;TZID=Europe/Berlin:20250218T140000
DTEND;TZID=Europe/Berlin:20250218T170000
DTSTAMP:20260421T104744
CREATED:20240612T092314Z
LAST-MODIFIED:20240612T092314Z
UID:10000742-1739887200-1739898000@soziokulturelles-zentrum.de
SUMMARY:Geselliger Nachmittag im Amselnest
DESCRIPTION:
URL:https://soziokulturelles-zentrum.de/event/geselliger-nachmittag-im-amselnest/2025-02-18/
LOCATION:Amselnest\, Amselweg 5\, Delitzsch\, Sachsen\, 04509\, Deutschland
END:VEVENT
BEGIN:VEVENT
DTSTART;TZID=Europe/Berlin:20250211T140000
DTEND;TZID=Europe/Berlin:20250211T170000
DTSTAMP:20260421T104744
CREATED:20240612T092314Z
LAST-MODIFIED:20240612T092314Z
UID:10000741-1739282400-1739293200@soziokulturelles-zentrum.de
SUMMARY:Geselliger Nachmittag im Amselnest
DESCRIPTION:
URL:https://soziokulturelles-zentrum.de/event/geselliger-nachmittag-im-amselnest/2025-02-11/
LOCATION:Amselnest\, Amselweg 5\, Delitzsch\, Sachsen\, 04509\, Deutschland
END:VEVENT
BEGIN:VEVENT
DTSTART;TZID=Europe/Berlin:20250204T140000
DTEND;TZID=Europe/Berlin:20250204T170000
DTSTAMP:20260421T104744
CREATED:20240612T092314Z
LAST-MODIFIED:20240612T092314Z
UID:10000740-1738677600-1738688400@soziokulturelles-zentrum.de
SUMMARY:Geselliger Nachmittag im Amselnest
DESCRIPTION:
URL:https://soziokulturelles-zentrum.de/event/geselliger-nachmittag-im-amselnest/2025-02-04/
LOCATION:Amselnest\, Amselweg 5\, Delitzsch\, Sachsen\, 04509\, Deutschland
END:VEVENT
BEGIN:VEVENT
DTSTART;TZID=Europe/Berlin:20250128T140000
DTEND;TZID=Europe/Berlin:20250128T170000
DTSTAMP:20260421T104744
CREATED:20240612T092314Z
LAST-MODIFIED:20240612T092314Z
UID:10000739-1738072800-1738083600@soziokulturelles-zentrum.de
SUMMARY:Geselliger Nachmittag im Amselnest
DESCRIPTION:
URL:https://soziokulturelles-zentrum.de/event/geselliger-nachmittag-im-amselnest/2025-01-28/
LOCATION:Amselnest\, Amselweg 5\, Delitzsch\, Sachsen\, 04509\, Deutschland
END:VEVENT
BEGIN:VEVENT
DTSTART;TZID=Europe/Berlin:20250123T140000
DTEND;TZID=Europe/Berlin:20250123T170000
DTSTAMP:20260421T104744
CREATED:20241202T092324Z
LAST-MODIFIED:20241202T092324Z
UID:10001348-1737640800-1737651600@soziokulturelles-zentrum.de
SUMMARY:Neujahresbegrüßung
DESCRIPTION:Wir begrüßen das neue Jahr!
URL:https://soziokulturelles-zentrum.de/event/neujahresbegruessung/
LOCATION:Amselnest\, Amselweg 5\, Delitzsch\, Sachsen\, 04509\, Deutschland
END:VEVENT
BEGIN:VEVENT
DTSTART;TZID=Europe/Berlin:20250121T140000
DTEND;TZID=Europe/Berlin:20250121T170000
DTSTAMP:20260421T104744
CREATED:20240612T092314Z
LAST-MODIFIED:20240612T092314Z
UID:10000738-1737468000-1737478800@soziokulturelles-zentrum.de
SUMMARY:Geselliger Nachmittag im Amselnest
DESCRIPTION:
URL:https://soziokulturelles-zentrum.de/event/geselliger-nachmittag-im-amselnest/2025-01-21/
LOCATION:Amselnest\, Amselweg 5\, Delitzsch\, Sachsen\, 04509\, Deutschland
END:VEVENT
END:VCALENDAR