BEGIN:VCALENDAR
VERSION:2.0
PRODID:-//Soziokulturelles Zentrum e.V. - ECPv6.15.20//NONSGML v1.0//EN
CALSCALE:GREGORIAN
METHOD:PUBLISH
X-WR-CALNAME:Soziokulturelles Zentrum e.V.
X-ORIGINAL-URL:https://soziokulturelles-zentrum.de
X-WR-CALDESC:Veranstaltungen für Soziokulturelles Zentrum e.V.
REFRESH-INTERVAL;VALUE=DURATION:PT1H
X-Robots-Tag:noindex
X-PUBLISHED-TTL:PT1H
BEGIN:VTIMEZONE
TZID:Europe/Berlin
BEGIN:DAYLIGHT
TZOFFSETFROM:+0100
TZOFFSETTO:+0200
TZNAME:CEST
DTSTART:20250330T010000
END:DAYLIGHT
BEGIN:STANDARD
TZOFFSETFROM:+0200
TZOFFSETTO:+0100
TZNAME:CET
DTSTART:20251026T010000
END:STANDARD
BEGIN:DAYLIGHT
TZOFFSETFROM:+0100
TZOFFSETTO:+0200
TZNAME:CEST
DTSTART:20260329T010000
END:DAYLIGHT
BEGIN:STANDARD
TZOFFSETFROM:+0200
TZOFFSETTO:+0100
TZNAME:CET
DTSTART:20261025T010000
END:STANDARD
BEGIN:DAYLIGHT
TZOFFSETFROM:+0100
TZOFFSETTO:+0200
TZNAME:CEST
DTSTART:20270328T010000
END:DAYLIGHT
BEGIN:STANDARD
TZOFFSETFROM:+0200
TZOFFSETTO:+0100
TZNAME:CET
DTSTART:20271031T010000
END:STANDARD
END:VTIMEZONE
BEGIN:VEVENT
DTSTART;TZID=Europe/Berlin:20260421T070000
DTEND;TZID=Europe/Berlin:20260421T190000
DTSTAMP:20260421T015858
CREATED:20251218T123644Z
LAST-MODIFIED:20251218T123644Z
UID:10002832-1776754800-1776798000@soziokulturelles-zentrum.de
SUMMARY:Demenznetz Delitzsch - Busfahrt nach Prag
DESCRIPTION:
URL:https://soziokulturelles-zentrum.de/event/demenznetz-delitzsch-busfahrt-nach-prag/
LOCATION:Extern\, Germany
CATEGORIES:Demenz
ATTACH;FMTTYPE=image/webp:https://soziokulturelles-zentrum.de/wp-content/uploads/2025/12/Prag_11zon.webp
ORGANIZER;CN="Demenznetz Delitzsch":MAILTO:info@demenznetz-delitzsch.de
END:VEVENT
BEGIN:VEVENT
DTSTART;TZID=Europe/Berlin:20260421T140000
DTEND;TZID=Europe/Berlin:20260421T170000
DTSTAMP:20260421T015858
CREATED:20240612T092314Z
LAST-MODIFIED:20240612T092314Z
UID:10000803-1776780000-1776790800@soziokulturelles-zentrum.de
SUMMARY:Geselliger Nachmittag im Amselnest
DESCRIPTION:
URL:https://soziokulturelles-zentrum.de/event/geselliger-nachmittag-im-amselnest/2026-04-21/
LOCATION:Amselnest\, Amselweg 5\, Delitzsch\, Sachsen\, 04509\, Deutschland
END:VEVENT
BEGIN:VEVENT
DTSTART;TZID=Europe/Berlin:20260421T153000
DTEND;TZID=Europe/Berlin:20260421T173000
DTSTAMP:20260421T015858
CREATED:20260126T101445Z
LAST-MODIFIED:20260325T121232Z
UID:10002864-1776785400-1776792600@soziokulturelles-zentrum.de
SUMMARY:Malkurs
DESCRIPTION:
URL:https://soziokulturelles-zentrum.de/event/malkurs-4/2026-04-21/
LOCATION:Schulungsraum\, Kosebruchweg 14\, Delitzsch\, Sachsen\, 04509\, Deutschland
CATEGORIES:Kurse / Workshops
ATTACH;FMTTYPE=image/png:https://soziokulturelles-zentrum.de/wp-content/uploads/2026/01/Malkurs-0126.png
END:VEVENT
BEGIN:VEVENT
DTSTART;TZID=Europe/Berlin:20260422T130000
DTEND;TZID=Europe/Berlin:20260422T163000
DTSTAMP:20260421T015858
CREATED:20240612T091738Z
LAST-MODIFIED:20240612T091738Z
UID:10000287-1776862800-1776875400@soziokulturelles-zentrum.de
SUMMARY:Skatrunde für alle Interessierten
DESCRIPTION:Spielenachmittag für Skatfreunde – mit kleiner Bewirtung (z. B. Kaffee\, Limo\, Bier)
URL:https://soziokulturelles-zentrum.de/event/skatrunde-fuer-alle-interessierten/2026-04-22/
LOCATION:Begegnungsstätte\, Kosebruchweg 14\, Delitzsch\, Sachsen\, 04509\, Deutschland
END:VEVENT
BEGIN:VEVENT
DTSTART;TZID=Europe/Berlin:20260422T130000
DTEND;TZID=Europe/Berlin:20260422T170000
DTSTAMP:20260421T015858
CREATED:20260209T083144Z
LAST-MODIFIED:20260209T083145Z
UID:10001068-1776862800-1776877200@soziokulturelles-zentrum.de
SUMMARY:Spielenachmittag
DESCRIPTION:
URL:https://soziokulturelles-zentrum.de/event/spielenachmittag-2/2026-04-22/
LOCATION:Begegnungsstätte\, Kosebruchweg 14\, Delitzsch\, Sachsen\, 04509\, Deutschland
CATEGORIES:Kurse / Workshops
ATTACH;FMTTYPE=image/png:https://soziokulturelles-zentrum.de/wp-content/uploads/2024/06/Spielenachmittag-Facebook-Post.png
END:VEVENT
BEGIN:VEVENT
DTSTART;TZID=Europe/Berlin:20260424T150000
DTEND;TZID=Europe/Berlin:20260424T200000
DTSTAMP:20260421T015858
CREATED:20251201T111326Z
LAST-MODIFIED:20251201T111326Z
UID:10002784-1777042800-1777060800@soziokulturelles-zentrum.de
SUMMARY:Tanz für Junggebliebene
DESCRIPTION:
URL:https://soziokulturelles-zentrum.de/event/tanz-fuer-junggebliebene-3/2026-04-24/
LOCATION:Begegnungsstätte\, Kosebruchweg 14\, Delitzsch\, Sachsen\, 04509\, Deutschland
ATTACH;FMTTYPE=image/webp:https://soziokulturelles-zentrum.de/wp-content/uploads/2025/12/Seniorentanz-FB_11zon.webp
END:VEVENT
BEGIN:VEVENT
DTSTART;TZID=Europe/Berlin:20260427T094500
DTEND;TZID=Europe/Berlin:20260427T104500
DTSTAMP:20260421T015858
CREATED:20250701T090759Z
LAST-MODIFIED:20250701T090759Z
UID:10002461-1777283100-1777286700@soziokulturelles-zentrum.de
SUMMARY:Krabbelgruppe
DESCRIPTION:
URL:https://soziokulturelles-zentrum.de/event/krabbelgruppe/2026-04-27/
LOCATION:Mehrzweckraum\, Kosebruchweg 14\, Delitzsch\, Sachsen\, 04509\, Germany
CATEGORIES:Kurse / Workshops
ATTACH;FMTTYPE=image/png:https://soziokulturelles-zentrum.de/wp-content/uploads/2025/07/Krabbelgruppe.png
END:VEVENT
BEGIN:VEVENT
DTSTART;TZID=Europe/Berlin:20260427T130000
DTEND;TZID=Europe/Berlin:20260427T153000
DTSTAMP:20260421T015858
CREATED:20260209T081608Z
LAST-MODIFIED:20260209T081608Z
UID:10000545-1777294800-1777303800@soziokulturelles-zentrum.de
SUMMARY:offener Handarbeits-Treff
DESCRIPTION:Bei uns sind alle willkommen – gern auch jüngere Interessierte ohne Vorkenntnisse. In der Gemeinschaft werden Tipps und Tricks ausgetauscht. \n  \n 
URL:https://soziokulturelles-zentrum.de/event/offener-handarbeits-treff-2-2/2026-04-27/
LOCATION:Begegnungsstätte\, Kosebruchweg 14\, Delitzsch\, Sachsen\, 04509\, Deutschland
CATEGORIES:Kurse / Workshops
ATTACH;FMTTYPE=image/png:https://soziokulturelles-zentrum.de/wp-content/uploads/2025/06/Handarbeitsterff.png
END:VEVENT
BEGIN:VEVENT
DTSTART;TZID=Europe/Berlin:20260427T150000
DTEND;TZID=Europe/Berlin:20260427T163000
DTSTAMP:20260421T015858
CREATED:20250905T120347Z
LAST-MODIFIED:20250905T120347Z
UID:10002715-1777302000-1777307400@soziokulturelles-zentrum.de
SUMMARY:Schlaumeierkurs
DESCRIPTION:jeden Montag (ab 20.10.25) von 15 – 16.30 Uhr außer in den sächsischen Ferien.
URL:https://soziokulturelles-zentrum.de/event/schlaumeierkurs/2026-04-27/
LOCATION:Mehrzweckraum\, Kosebruchweg 14\, Delitzsch\, Sachsen\, 04509\, Germany
CATEGORIES:Kurse / Workshops
ATTACH;FMTTYPE=image/png:https://soziokulturelles-zentrum.de/wp-content/uploads/2025/09/Schlaumeierkurs.png
END:VEVENT
BEGIN:VEVENT
DTSTART;TZID=Europe/Berlin:20260427T160000
DTEND;TZID=Europe/Berlin:20260427T170000
DTSTAMP:20260421T015858
CREATED:20250701T090619Z
LAST-MODIFIED:20250701T090619Z
UID:10002204-1777305600-1777309200@soziokulturelles-zentrum.de
SUMMARY:Yoga-Kurs
DESCRIPTION:montags\, 09:45 – 10:45 Uhr & 16:00 – 17:00 Uhr
URL:https://soziokulturelles-zentrum.de/event/hatha-yoga-2/2026-04-27/
LOCATION:Mehrzweckraum\, Kosebruchweg 14\, Delitzsch\, Sachsen\, 04509\, Germany
CATEGORIES:Kurse / Workshops
ATTACH;FMTTYPE=image/png:https://soziokulturelles-zentrum.de/wp-content/uploads/2025/07/YOGA.png
END:VEVENT
BEGIN:VEVENT
DTSTART;TZID=Europe/Berlin:20260428T100000
DTEND;TZID=Europe/Berlin:20260428T120000
DTSTAMP:20260421T015858
CREATED:20241216T112940Z
LAST-MODIFIED:20250118T090125Z
UID:10001445-1777370400-1777377600@soziokulturelles-zentrum.de
SUMMARY:Offener Austausch - Angehörigen- und Betroffenen-Treffen (Demenznetz + Alltagsbegleitung und Nachbarschaftshilfe)
DESCRIPTION:
URL:https://soziokulturelles-zentrum.de/event/offener-austausch-angehoerigen-und-betroffenen-treffen-demenznetz/2026-04-28/
LOCATION:Begegnungsstätte\, Kosebruchweg 14\, Delitzsch\, Sachsen\, 04509\, Deutschland
CATEGORIES:Demenz
END:VEVENT
BEGIN:VEVENT
DTSTART;TZID=Europe/Berlin:20260428T140000
DTEND;TZID=Europe/Berlin:20260428T170000
DTSTAMP:20260421T015858
CREATED:20240612T092314Z
LAST-MODIFIED:20240612T092314Z
UID:10000804-1777384800-1777395600@soziokulturelles-zentrum.de
SUMMARY:Geselliger Nachmittag im Amselnest
DESCRIPTION:
URL:https://soziokulturelles-zentrum.de/event/geselliger-nachmittag-im-amselnest/2026-04-28/
LOCATION:Amselnest\, Amselweg 5\, Delitzsch\, Sachsen\, 04509\, Deutschland
END:VEVENT
BEGIN:VEVENT
DTSTART;TZID=Europe/Berlin:20260428T150000
DTEND;TZID=Europe/Berlin:20260428T170000
DTSTAMP:20260421T015858
CREATED:20250118T085600Z
LAST-MODIFIED:20250118T090056Z
UID:10000029-1777388400-1777395600@soziokulturelles-zentrum.de
SUMMARY:Offener Austausch - Angehörigen- und Betroffenen-Treffen (Demenznetz + Alltagsbegleitung und Nachbarschaftshilfe)
DESCRIPTION:
URL:https://soziokulturelles-zentrum.de/event/offener-austausch-angehoerigen-und-betroffenen-treffen-2/2026-04-28/
LOCATION:Begegnungsstätte\, Kosebruchweg 14\, Delitzsch\, Sachsen\, 04509\, Deutschland
CATEGORIES:Demenz
END:VEVENT
BEGIN:VEVENT
DTSTART;TZID=Europe/Berlin:20260429T130000
DTEND;TZID=Europe/Berlin:20260429T163000
DTSTAMP:20260421T015858
CREATED:20240612T091738Z
LAST-MODIFIED:20240612T091738Z
UID:10000288-1777467600-1777480200@soziokulturelles-zentrum.de
SUMMARY:Skatrunde für alle Interessierten
DESCRIPTION:Spielenachmittag für Skatfreunde – mit kleiner Bewirtung (z. B. Kaffee\, Limo\, Bier)
URL:https://soziokulturelles-zentrum.de/event/skatrunde-fuer-alle-interessierten/2026-04-29/
LOCATION:Begegnungsstätte\, Kosebruchweg 14\, Delitzsch\, Sachsen\, 04509\, Deutschland
END:VEVENT
BEGIN:VEVENT
DTSTART;TZID=Europe/Berlin:20260429T130000
DTEND;TZID=Europe/Berlin:20260429T170000
DTSTAMP:20260421T015858
CREATED:20260209T083144Z
LAST-MODIFIED:20260209T083145Z
UID:10001069-1777467600-1777482000@soziokulturelles-zentrum.de
SUMMARY:Spielenachmittag
DESCRIPTION:
URL:https://soziokulturelles-zentrum.de/event/spielenachmittag-2/2026-04-29/
LOCATION:Begegnungsstätte\, Kosebruchweg 14\, Delitzsch\, Sachsen\, 04509\, Deutschland
CATEGORIES:Kurse / Workshops
ATTACH;FMTTYPE=image/png:https://soziokulturelles-zentrum.de/wp-content/uploads/2024/06/Spielenachmittag-Facebook-Post.png
END:VEVENT
BEGIN:VEVENT
DTSTART;TZID=Europe/Berlin:20260429T140000
DTEND;TZID=Europe/Berlin:20260429T160000
DTSTAMP:20260421T015858
CREATED:20251204T092437Z
LAST-MODIFIED:20251204T092605Z
UID:10000111-1777471200-1777478400@soziokulturelles-zentrum.de
SUMMARY:Demenz Beschäftigung - Aktive Momente voller Liebe
DESCRIPTION:
URL:https://soziokulturelles-zentrum.de/event/demenz-beschaeftigung-aktive-momente-voller-liebe-2/2026-04-29/
LOCATION:Begegnungsstätte\, Kosebruchweg 14\, Delitzsch\, Sachsen\, 04509\, Deutschland
CATEGORIES:Demenz
ATTACH;FMTTYPE=image/webp:https://soziokulturelles-zentrum.de/wp-content/uploads/2025/10/Demenzbeschaeftigung-neu-scaled.webp
ORGANIZER;CN="Demenznetz Delitzsch":MAILTO:info@demenznetz-delitzsch.de
END:VEVENT
END:VCALENDAR