BEGIN:VCALENDAR
VERSION:2.0
PRODID:-//Soziokulturelles Zentrum e.V. - ECPv6.15.20//NONSGML v1.0//EN
CALSCALE:GREGORIAN
METHOD:PUBLISH
X-WR-CALNAME:Soziokulturelles Zentrum e.V.
X-ORIGINAL-URL:https://soziokulturelles-zentrum.de
X-WR-CALDESC:Veranstaltungen für Soziokulturelles Zentrum e.V.
REFRESH-INTERVAL;VALUE=DURATION:PT1H
X-Robots-Tag:noindex
X-PUBLISHED-TTL:PT1H
BEGIN:VTIMEZONE
TZID:Europe/Berlin
BEGIN:DAYLIGHT
TZOFFSETFROM:+0100
TZOFFSETTO:+0200
TZNAME:CEST
DTSTART:20250330T010000
END:DAYLIGHT
BEGIN:STANDARD
TZOFFSETFROM:+0200
TZOFFSETTO:+0100
TZNAME:CET
DTSTART:20251026T010000
END:STANDARD
BEGIN:DAYLIGHT
TZOFFSETFROM:+0100
TZOFFSETTO:+0200
TZNAME:CEST
DTSTART:20260329T010000
END:DAYLIGHT
BEGIN:STANDARD
TZOFFSETFROM:+0200
TZOFFSETTO:+0100
TZNAME:CET
DTSTART:20261025T010000
END:STANDARD
BEGIN:DAYLIGHT
TZOFFSETFROM:+0100
TZOFFSETTO:+0200
TZNAME:CEST
DTSTART:20270328T010000
END:DAYLIGHT
BEGIN:STANDARD
TZOFFSETFROM:+0200
TZOFFSETTO:+0100
TZNAME:CET
DTSTART:20271031T010000
END:STANDARD
END:VTIMEZONE
BEGIN:VEVENT
DTSTART;TZID=Europe/Berlin:20260601T094500
DTEND;TZID=Europe/Berlin:20260601T104500
DTSTAMP:20260423T150631
CREATED:20250701T090759Z
LAST-MODIFIED:20250701T090759Z
UID:10002466-1780307100-1780310700@soziokulturelles-zentrum.de
SUMMARY:Krabbelgruppe
DESCRIPTION:
URL:https://soziokulturelles-zentrum.de/event/krabbelgruppe/2026-06-01/
LOCATION:Mehrzweckraum\, Kosebruchweg 14\, Delitzsch\, Sachsen\, 04509\, Germany
CATEGORIES:Kurse / Workshops
ATTACH;FMTTYPE=image/png:https://soziokulturelles-zentrum.de/wp-content/uploads/2025/07/Krabbelgruppe.png
END:VEVENT
BEGIN:VEVENT
DTSTART;TZID=Europe/Berlin:20260601T130000
DTEND;TZID=Europe/Berlin:20260601T153000
DTSTAMP:20260423T150631
CREATED:20260209T081608Z
LAST-MODIFIED:20260209T081608Z
UID:10000550-1780318800-1780327800@soziokulturelles-zentrum.de
SUMMARY:offener Handarbeits-Treff
DESCRIPTION:Bei uns sind alle willkommen – gern auch jüngere Interessierte ohne Vorkenntnisse. In der Gemeinschaft werden Tipps und Tricks ausgetauscht. \n  \n 
URL:https://soziokulturelles-zentrum.de/event/offener-handarbeits-treff-2-2/2026-06-01/
LOCATION:Begegnungsstätte\, Kosebruchweg 14\, Delitzsch\, Sachsen\, 04509\, Deutschland
CATEGORIES:Kurse / Workshops
ATTACH;FMTTYPE=image/png:https://soziokulturelles-zentrum.de/wp-content/uploads/2025/06/Handarbeitsterff.png
END:VEVENT
BEGIN:VEVENT
DTSTART;TZID=Europe/Berlin:20260601T150000
DTEND;TZID=Europe/Berlin:20260601T163000
DTSTAMP:20260423T150631
CREATED:20250905T120347Z
LAST-MODIFIED:20250905T120347Z
UID:10002720-1780326000-1780331400@soziokulturelles-zentrum.de
SUMMARY:Schlaumeierkurs
DESCRIPTION:jeden Montag (ab 20.10.25) von 15 – 16.30 Uhr außer in den sächsischen Ferien.
URL:https://soziokulturelles-zentrum.de/event/schlaumeierkurs/2026-06-01/
LOCATION:Mehrzweckraum\, Kosebruchweg 14\, Delitzsch\, Sachsen\, 04509\, Germany
CATEGORIES:Kurse / Workshops
ATTACH;FMTTYPE=image/png:https://soziokulturelles-zentrum.de/wp-content/uploads/2025/09/Schlaumeierkurs.png
END:VEVENT
BEGIN:VEVENT
DTSTART;TZID=Europe/Berlin:20260601T150000
DTEND;TZID=Europe/Berlin:20260601T190000
DTSTAMP:20260423T150631
CREATED:20260417T114750Z
LAST-MODIFIED:20260417T114750Z
UID:10002999-1780326000-1780340400@soziokulturelles-zentrum.de
SUMMARY:Kindertag
DESCRIPTION:
URL:https://soziokulturelles-zentrum.de/event/kindertag-2/
LOCATION:Außengelände Kosebruchweg\, Kosebruchweg 14\, Delitzsch\, Sachsen\, 04509\, Deutschland
ATTACH;FMTTYPE=image/png:https://soziokulturelles-zentrum.de/wp-content/uploads/2026/04/Kindertag-Facebook-Post.png
END:VEVENT
BEGIN:VEVENT
DTSTART;TZID=Europe/Berlin:20260601T160000
DTEND;TZID=Europe/Berlin:20260601T170000
DTSTAMP:20260423T150631
CREATED:20250701T090619Z
LAST-MODIFIED:20250701T090619Z
UID:10002209-1780329600-1780333200@soziokulturelles-zentrum.de
SUMMARY:Yoga-Kurs
DESCRIPTION:montags\, 09:45 – 10:45 Uhr & 16:00 – 17:00 Uhr
URL:https://soziokulturelles-zentrum.de/event/hatha-yoga-2/2026-06-01/
LOCATION:Mehrzweckraum\, Kosebruchweg 14\, Delitzsch\, Sachsen\, 04509\, Germany
CATEGORIES:Kurse / Workshops
ATTACH;FMTTYPE=image/png:https://soziokulturelles-zentrum.de/wp-content/uploads/2025/07/YOGA.png
END:VEVENT
BEGIN:VEVENT
DTSTART;TZID=Europe/Berlin:20260602T140000
DTEND;TZID=Europe/Berlin:20260602T170000
DTSTAMP:20260423T150631
CREATED:20240612T092314Z
LAST-MODIFIED:20240612T092314Z
UID:10000809-1780408800-1780419600@soziokulturelles-zentrum.de
SUMMARY:Geselliger Nachmittag im Amselnest
DESCRIPTION:
URL:https://soziokulturelles-zentrum.de/event/geselliger-nachmittag-im-amselnest/2026-06-02/
LOCATION:Amselnest\, Amselweg 5\, Delitzsch\, Sachsen\, 04509\, Deutschland
END:VEVENT
BEGIN:VEVENT
DTSTART;TZID=Europe/Berlin:20260602T153000
DTEND;TZID=Europe/Berlin:20260602T173000
DTSTAMP:20260423T150631
CREATED:20260126T101445Z
LAST-MODIFIED:20260325T121232Z
UID:10002867-1780414200-1780421400@soziokulturelles-zentrum.de
SUMMARY:Malkurs
DESCRIPTION:
URL:https://soziokulturelles-zentrum.de/event/malkurs-4/2026-06-02/
LOCATION:Schulungsraum\, Kosebruchweg 14\, Delitzsch\, Sachsen\, 04509\, Deutschland
CATEGORIES:Kurse / Workshops
ATTACH;FMTTYPE=image/png:https://soziokulturelles-zentrum.de/wp-content/uploads/2026/01/Malkurs-0126.png
END:VEVENT
BEGIN:VEVENT
DTSTART;TZID=Europe/Berlin:20260603T130000
DTEND;TZID=Europe/Berlin:20260603T163000
DTSTAMP:20260423T150631
CREATED:20240612T091738Z
LAST-MODIFIED:20240612T091738Z
UID:10000293-1780491600-1780504200@soziokulturelles-zentrum.de
SUMMARY:Skatrunde für alle Interessierten
DESCRIPTION:Spielenachmittag für Skatfreunde – mit kleiner Bewirtung (z. B. Kaffee\, Limo\, Bier)
URL:https://soziokulturelles-zentrum.de/event/skatrunde-fuer-alle-interessierten/2026-06-03/
LOCATION:Begegnungsstätte\, Kosebruchweg 14\, Delitzsch\, Sachsen\, 04509\, Deutschland
END:VEVENT
BEGIN:VEVENT
DTSTART;TZID=Europe/Berlin:20260603T130000
DTEND;TZID=Europe/Berlin:20260603T170000
DTSTAMP:20260423T150631
CREATED:20260209T083144Z
LAST-MODIFIED:20260209T083145Z
UID:10001074-1780491600-1780506000@soziokulturelles-zentrum.de
SUMMARY:Spielenachmittag
DESCRIPTION:
URL:https://soziokulturelles-zentrum.de/event/spielenachmittag-2/2026-06-03/
LOCATION:Begegnungsstätte\, Kosebruchweg 14\, Delitzsch\, Sachsen\, 04509\, Deutschland
CATEGORIES:Kurse / Workshops
ATTACH;FMTTYPE=image/png:https://soziokulturelles-zentrum.de/wp-content/uploads/2024/06/Spielenachmittag-Facebook-Post.png
END:VEVENT
BEGIN:VEVENT
DTSTART;TZID=Europe/Berlin:20260603T160000
DTEND;TZID=Europe/Berlin:20260603T180000
DTSTAMP:20260423T150631
CREATED:20260122T124318Z
LAST-MODIFIED:20260122T124318Z
UID:10002851-1780502400-1780509600@soziokulturelles-zentrum.de
SUMMARY:Nähkurs für Erwachsene
DESCRIPTION:
URL:https://soziokulturelles-zentrum.de/event/naehkurs-fuer-erwachsene/2026-06-03/
LOCATION:Stoffwechsel\, Amselweg 5\, Delitzsch\, Sachsen\, 04509
CATEGORIES:Kurse / Workshops,Workshops - Stoffwechsel
ATTACH;FMTTYPE=image/png:https://soziokulturelles-zentrum.de/wp-content/uploads/2026/01/Naehkurs-Erwachsene.png
END:VEVENT
BEGIN:VEVENT
DTSTART;TZID=Europe/Berlin:20260604T080000
DTEND;TZID=Europe/Berlin:20260604T160000
DTSTAMP:20260423T150631
CREATED:20251113T110808Z
LAST-MODIFIED:20260226T060111Z
UID:10002756-1780560000-1780588800@soziokulturelles-zentrum.de
SUMMARY:Grundkurs (Nachbarschaftshilfe)
DESCRIPTION:Kursinhalt / -aufbau\nDie Kurse gliedern sich in Grund- und Aufbaukurse. \nDer Grundkurs für Nachbarschaftshilfe hat einen zeitlichen Umfang von 5 mal 90 Minuten und soll den zukünftigen Nachbarschaftshelferinnen oder Nachbarschaftshelfern folgende Inhalte vermitteln: \n\ngesetzliche Regelungen\nBasiswissen zu den unterschiedlichen Krankheits- und Behinderungsbildern\nAllgemeine Betreuung und Entlastung\nHinweise für die praktische Tätigkeit als Nachbarschaftshilfe\n\nDer Aufbaukurs mit einem Umfang von 2 mal 90 Minuten dient der Festigung der Kenntnisse aus dem Grundkurs\, wobei auch aktuelle Änderungen vermittelt werden. Zudem sollen dabei Erfahrungen der Kursteilnehmenden aus ihrer bisherigen Tätigkeit als Nachbarschaftshelferin oder Nachbarschaftshelfer ausgetauscht und Probleme lösungsorientiert diskutiert werden.
URL:https://soziokulturelles-zentrum.de/event/grundkurs-nachbarschaftshilfe/2026-06-04/
LOCATION:Begegnungsstätte\, Kosebruchweg 14\, Delitzsch\, Sachsen\, 04509\, Deutschland
CATEGORIES:Nachbarschaftshilfe,NBH-Kurse
END:VEVENT
BEGIN:VEVENT
DTSTART;TZID=Europe/Berlin:20260605T100000
DTEND;TZID=Europe/Berlin:20260605T120000
DTSTAMP:20260423T150631
CREATED:20260310T133553Z
LAST-MODIFIED:20260310T133553Z
UID:10002997-1780653600-1780660800@soziokulturelles-zentrum.de
SUMMARY:Selbsthilfebrunch
DESCRIPTION:
URL:https://soziokulturelles-zentrum.de/event/selbsthilfebrunch-2/
LOCATION:Begegnungsstätte\, Kosebruchweg 14\, Delitzsch\, Sachsen\, 04509\, Deutschland
CATEGORIES:Demenz,Nachbarschaftshilfe
ATTACH;FMTTYPE=image/png:https://soziokulturelles-zentrum.de/wp-content/uploads/2026/03/Selbsthilfebrunch-Juni-2026.png
END:VEVENT
BEGIN:VEVENT
DTSTART;TZID=Europe/Berlin:20260608T094500
DTEND;TZID=Europe/Berlin:20260608T104500
DTSTAMP:20260423T150631
CREATED:20250701T090759Z
LAST-MODIFIED:20250701T090759Z
UID:10002467-1780911900-1780915500@soziokulturelles-zentrum.de
SUMMARY:Krabbelgruppe
DESCRIPTION:
URL:https://soziokulturelles-zentrum.de/event/krabbelgruppe/2026-06-08/
LOCATION:Mehrzweckraum\, Kosebruchweg 14\, Delitzsch\, Sachsen\, 04509\, Germany
CATEGORIES:Kurse / Workshops
ATTACH;FMTTYPE=image/png:https://soziokulturelles-zentrum.de/wp-content/uploads/2025/07/Krabbelgruppe.png
END:VEVENT
BEGIN:VEVENT
DTSTART;TZID=Europe/Berlin:20260608T130000
DTEND;TZID=Europe/Berlin:20260608T153000
DTSTAMP:20260423T150631
CREATED:20260209T081608Z
LAST-MODIFIED:20260209T081608Z
UID:10000551-1780923600-1780932600@soziokulturelles-zentrum.de
SUMMARY:offener Handarbeits-Treff
DESCRIPTION:Bei uns sind alle willkommen – gern auch jüngere Interessierte ohne Vorkenntnisse. In der Gemeinschaft werden Tipps und Tricks ausgetauscht. \n  \n 
URL:https://soziokulturelles-zentrum.de/event/offener-handarbeits-treff-2-2/2026-06-08/
LOCATION:Begegnungsstätte\, Kosebruchweg 14\, Delitzsch\, Sachsen\, 04509\, Deutschland
CATEGORIES:Kurse / Workshops
ATTACH;FMTTYPE=image/png:https://soziokulturelles-zentrum.de/wp-content/uploads/2025/06/Handarbeitsterff.png
END:VEVENT
BEGIN:VEVENT
DTSTART;TZID=Europe/Berlin:20260608T150000
DTEND;TZID=Europe/Berlin:20260608T163000
DTSTAMP:20260423T150631
CREATED:20250905T120347Z
LAST-MODIFIED:20250905T120347Z
UID:10002721-1780930800-1780936200@soziokulturelles-zentrum.de
SUMMARY:Schlaumeierkurs
DESCRIPTION:jeden Montag (ab 20.10.25) von 15 – 16.30 Uhr außer in den sächsischen Ferien.
URL:https://soziokulturelles-zentrum.de/event/schlaumeierkurs/2026-06-08/
LOCATION:Mehrzweckraum\, Kosebruchweg 14\, Delitzsch\, Sachsen\, 04509\, Germany
CATEGORIES:Kurse / Workshops
ATTACH;FMTTYPE=image/png:https://soziokulturelles-zentrum.de/wp-content/uploads/2025/09/Schlaumeierkurs.png
END:VEVENT
BEGIN:VEVENT
DTSTART;TZID=Europe/Berlin:20260608T160000
DTEND;TZID=Europe/Berlin:20260608T170000
DTSTAMP:20260423T150631
CREATED:20250701T090619Z
LAST-MODIFIED:20250701T090619Z
UID:10002210-1780934400-1780938000@soziokulturelles-zentrum.de
SUMMARY:Yoga-Kurs
DESCRIPTION:montags\, 09:45 – 10:45 Uhr & 16:00 – 17:00 Uhr
URL:https://soziokulturelles-zentrum.de/event/hatha-yoga-2/2026-06-08/
LOCATION:Mehrzweckraum\, Kosebruchweg 14\, Delitzsch\, Sachsen\, 04509\, Germany
CATEGORIES:Kurse / Workshops
ATTACH;FMTTYPE=image/png:https://soziokulturelles-zentrum.de/wp-content/uploads/2025/07/YOGA.png
END:VEVENT
BEGIN:VEVENT
DTSTART;TZID=Europe/Berlin:20260609T140000
DTEND;TZID=Europe/Berlin:20260609T170000
DTSTAMP:20260423T150631
CREATED:20240612T092314Z
LAST-MODIFIED:20240612T092314Z
UID:10000810-1781013600-1781024400@soziokulturelles-zentrum.de
SUMMARY:Geselliger Nachmittag im Amselnest
DESCRIPTION:
URL:https://soziokulturelles-zentrum.de/event/geselliger-nachmittag-im-amselnest/2026-06-09/
LOCATION:Amselnest\, Amselweg 5\, Delitzsch\, Sachsen\, 04509\, Deutschland
END:VEVENT
BEGIN:VEVENT
DTSTART;TZID=Europe/Berlin:20260610T130000
DTEND;TZID=Europe/Berlin:20260610T163000
DTSTAMP:20260423T150631
CREATED:20240612T091738Z
LAST-MODIFIED:20240612T091738Z
UID:10000294-1781096400-1781109000@soziokulturelles-zentrum.de
SUMMARY:Skatrunde für alle Interessierten
DESCRIPTION:Spielenachmittag für Skatfreunde – mit kleiner Bewirtung (z. B. Kaffee\, Limo\, Bier)
URL:https://soziokulturelles-zentrum.de/event/skatrunde-fuer-alle-interessierten/2026-06-10/
LOCATION:Begegnungsstätte\, Kosebruchweg 14\, Delitzsch\, Sachsen\, 04509\, Deutschland
END:VEVENT
BEGIN:VEVENT
DTSTART;TZID=Europe/Berlin:20260610T130000
DTEND;TZID=Europe/Berlin:20260610T170000
DTSTAMP:20260423T150631
CREATED:20260209T083144Z
LAST-MODIFIED:20260209T083145Z
UID:10001075-1781096400-1781110800@soziokulturelles-zentrum.de
SUMMARY:Spielenachmittag
DESCRIPTION:
URL:https://soziokulturelles-zentrum.de/event/spielenachmittag-2/2026-06-10/
LOCATION:Begegnungsstätte\, Kosebruchweg 14\, Delitzsch\, Sachsen\, 04509\, Deutschland
CATEGORIES:Kurse / Workshops
ATTACH;FMTTYPE=image/png:https://soziokulturelles-zentrum.de/wp-content/uploads/2024/06/Spielenachmittag-Facebook-Post.png
END:VEVENT
BEGIN:VEVENT
DTSTART;TZID=Europe/Berlin:20260610T140000
DTEND;TZID=Europe/Berlin:20260610T160000
DTSTAMP:20260423T150631
CREATED:20251204T092437Z
LAST-MODIFIED:20251204T092605Z
UID:10000114-1781100000-1781107200@soziokulturelles-zentrum.de
SUMMARY:Demenz Beschäftigung - Aktive Momente voller Liebe
DESCRIPTION:
URL:https://soziokulturelles-zentrum.de/event/demenz-beschaeftigung-aktive-momente-voller-liebe-2/2026-06-10/
LOCATION:Begegnungsstätte\, Kosebruchweg 14\, Delitzsch\, Sachsen\, 04509\, Deutschland
CATEGORIES:Demenz
ATTACH;FMTTYPE=image/webp:https://soziokulturelles-zentrum.de/wp-content/uploads/2025/10/Demenzbeschaeftigung-neu-scaled.webp
ORGANIZER;CN="Demenznetz Delitzsch":MAILTO:info@demenznetz-delitzsch.de
END:VEVENT
BEGIN:VEVENT
DTSTART;TZID=Europe/Berlin:20260612T150000
DTEND;TZID=Europe/Berlin:20260612T200000
DTSTAMP:20260423T150631
CREATED:20251201T111326Z
LAST-MODIFIED:20251201T111326Z
UID:10002786-1781276400-1781294400@soziokulturelles-zentrum.de
SUMMARY:Tanz für Junggebliebene
DESCRIPTION:
URL:https://soziokulturelles-zentrum.de/event/tanz-fuer-junggebliebene-3/2026-06-12/
LOCATION:Begegnungsstätte\, Kosebruchweg 14\, Delitzsch\, Sachsen\, 04509\, Deutschland
ATTACH;FMTTYPE=image/webp:https://soziokulturelles-zentrum.de/wp-content/uploads/2025/12/Seniorentanz-FB_11zon.webp
END:VEVENT
BEGIN:VEVENT
DTSTART;TZID=Europe/Berlin:20260615T094500
DTEND;TZID=Europe/Berlin:20260615T104500
DTSTAMP:20260423T150631
CREATED:20250701T090759Z
LAST-MODIFIED:20250701T090759Z
UID:10002468-1781516700-1781520300@soziokulturelles-zentrum.de
SUMMARY:Krabbelgruppe
DESCRIPTION:
URL:https://soziokulturelles-zentrum.de/event/krabbelgruppe/2026-06-15/
LOCATION:Mehrzweckraum\, Kosebruchweg 14\, Delitzsch\, Sachsen\, 04509\, Germany
CATEGORIES:Kurse / Workshops
ATTACH;FMTTYPE=image/png:https://soziokulturelles-zentrum.de/wp-content/uploads/2025/07/Krabbelgruppe.png
END:VEVENT
BEGIN:VEVENT
DTSTART;TZID=Europe/Berlin:20260615T130000
DTEND;TZID=Europe/Berlin:20260615T153000
DTSTAMP:20260423T150631
CREATED:20260209T081608Z
LAST-MODIFIED:20260209T081608Z
UID:10000552-1781528400-1781537400@soziokulturelles-zentrum.de
SUMMARY:offener Handarbeits-Treff
DESCRIPTION:Bei uns sind alle willkommen – gern auch jüngere Interessierte ohne Vorkenntnisse. In der Gemeinschaft werden Tipps und Tricks ausgetauscht. \n  \n 
URL:https://soziokulturelles-zentrum.de/event/offener-handarbeits-treff-2-2/2026-06-15/
LOCATION:Begegnungsstätte\, Kosebruchweg 14\, Delitzsch\, Sachsen\, 04509\, Deutschland
CATEGORIES:Kurse / Workshops
ATTACH;FMTTYPE=image/png:https://soziokulturelles-zentrum.de/wp-content/uploads/2025/06/Handarbeitsterff.png
END:VEVENT
BEGIN:VEVENT
DTSTART;TZID=Europe/Berlin:20260615T150000
DTEND;TZID=Europe/Berlin:20260615T163000
DTSTAMP:20260423T150631
CREATED:20250905T120347Z
LAST-MODIFIED:20250905T120347Z
UID:10002722-1781535600-1781541000@soziokulturelles-zentrum.de
SUMMARY:Schlaumeierkurs
DESCRIPTION:jeden Montag (ab 20.10.25) von 15 – 16.30 Uhr außer in den sächsischen Ferien.
URL:https://soziokulturelles-zentrum.de/event/schlaumeierkurs/2026-06-15/
LOCATION:Mehrzweckraum\, Kosebruchweg 14\, Delitzsch\, Sachsen\, 04509\, Germany
CATEGORIES:Kurse / Workshops
ATTACH;FMTTYPE=image/png:https://soziokulturelles-zentrum.de/wp-content/uploads/2025/09/Schlaumeierkurs.png
END:VEVENT
BEGIN:VEVENT
DTSTART;TZID=Europe/Berlin:20260615T160000
DTEND;TZID=Europe/Berlin:20260615T170000
DTSTAMP:20260423T150631
CREATED:20250701T090619Z
LAST-MODIFIED:20250701T090619Z
UID:10002211-1781539200-1781542800@soziokulturelles-zentrum.de
SUMMARY:Yoga-Kurs
DESCRIPTION:montags\, 09:45 – 10:45 Uhr & 16:00 – 17:00 Uhr
URL:https://soziokulturelles-zentrum.de/event/hatha-yoga-2/2026-06-15/
LOCATION:Mehrzweckraum\, Kosebruchweg 14\, Delitzsch\, Sachsen\, 04509\, Germany
CATEGORIES:Kurse / Workshops
ATTACH;FMTTYPE=image/png:https://soziokulturelles-zentrum.de/wp-content/uploads/2025/07/YOGA.png
END:VEVENT
BEGIN:VEVENT
DTSTART;TZID=Europe/Berlin:20260616T140000
DTEND;TZID=Europe/Berlin:20260616T170000
DTSTAMP:20260423T150631
CREATED:20240612T092314Z
LAST-MODIFIED:20240612T092314Z
UID:10000811-1781618400-1781629200@soziokulturelles-zentrum.de
SUMMARY:Geselliger Nachmittag im Amselnest
DESCRIPTION:
URL:https://soziokulturelles-zentrum.de/event/geselliger-nachmittag-im-amselnest/2026-06-16/
LOCATION:Amselnest\, Amselweg 5\, Delitzsch\, Sachsen\, 04509\, Deutschland
END:VEVENT
BEGIN:VEVENT
DTSTART;TZID=Europe/Berlin:20260616T153000
DTEND;TZID=Europe/Berlin:20260616T173000
DTSTAMP:20260423T150631
CREATED:20260126T101445Z
LAST-MODIFIED:20260325T121232Z
UID:10002868-1781623800-1781631000@soziokulturelles-zentrum.de
SUMMARY:Malkurs
DESCRIPTION:
URL:https://soziokulturelles-zentrum.de/event/malkurs-4/2026-06-16/
LOCATION:Schulungsraum\, Kosebruchweg 14\, Delitzsch\, Sachsen\, 04509\, Deutschland
CATEGORIES:Kurse / Workshops
ATTACH;FMTTYPE=image/png:https://soziokulturelles-zentrum.de/wp-content/uploads/2026/01/Malkurs-0126.png
END:VEVENT
BEGIN:VEVENT
DTSTART;TZID=Europe/Berlin:20260617T130000
DTEND;TZID=Europe/Berlin:20260617T163000
DTSTAMP:20260423T150631
CREATED:20240612T091738Z
LAST-MODIFIED:20240612T091738Z
UID:10000295-1781701200-1781713800@soziokulturelles-zentrum.de
SUMMARY:Skatrunde für alle Interessierten
DESCRIPTION:Spielenachmittag für Skatfreunde – mit kleiner Bewirtung (z. B. Kaffee\, Limo\, Bier)
URL:https://soziokulturelles-zentrum.de/event/skatrunde-fuer-alle-interessierten/2026-06-17/
LOCATION:Begegnungsstätte\, Kosebruchweg 14\, Delitzsch\, Sachsen\, 04509\, Deutschland
END:VEVENT
BEGIN:VEVENT
DTSTART;TZID=Europe/Berlin:20260617T130000
DTEND;TZID=Europe/Berlin:20260617T170000
DTSTAMP:20260423T150631
CREATED:20260209T083144Z
LAST-MODIFIED:20260209T083145Z
UID:10001076-1781701200-1781715600@soziokulturelles-zentrum.de
SUMMARY:Spielenachmittag
DESCRIPTION:
URL:https://soziokulturelles-zentrum.de/event/spielenachmittag-2/2026-06-17/
LOCATION:Begegnungsstätte\, Kosebruchweg 14\, Delitzsch\, Sachsen\, 04509\, Deutschland
CATEGORIES:Kurse / Workshops
ATTACH;FMTTYPE=image/png:https://soziokulturelles-zentrum.de/wp-content/uploads/2024/06/Spielenachmittag-Facebook-Post.png
END:VEVENT
BEGIN:VEVENT
DTSTART;TZID=Europe/Berlin:20260617T140000
DTEND;TZID=Europe/Berlin:20260617T170000
DTSTAMP:20260423T150631
CREATED:20260115T140243Z
LAST-MODIFIED:20260115T140243Z
UID:10002841-1781704800-1781715600@soziokulturelles-zentrum.de
SUMMARY:Besondere Kaffeenachmittage im Amselnest
DESCRIPTION:
URL:https://soziokulturelles-zentrum.de/event/besondere-kaffeenachmittage-im-amselnest/2026-06-17/
LOCATION:Amselnest\, Amselweg 5\, Delitzsch\, Sachsen\, 04509\, Deutschland
ATTACH;FMTTYPE=image/png:https://soziokulturelles-zentrum.de/wp-content/uploads/2026/01/Termine-2026.png
END:VEVENT
END:VCALENDAR