BEGIN:VCALENDAR
VERSION:2.0
PRODID:-//Soziokulturelles Zentrum e.V. - ECPv6.15.20//NONSGML v1.0//EN
CALSCALE:GREGORIAN
METHOD:PUBLISH
X-WR-CALNAME:Soziokulturelles Zentrum e.V.
X-ORIGINAL-URL:https://soziokulturelles-zentrum.de
X-WR-CALDESC:Veranstaltungen für Soziokulturelles Zentrum e.V.
REFRESH-INTERVAL;VALUE=DURATION:PT1H
X-Robots-Tag:noindex
X-PUBLISHED-TTL:PT1H
BEGIN:VTIMEZONE
TZID:Europe/Berlin
BEGIN:DAYLIGHT
TZOFFSETFROM:+0100
TZOFFSETTO:+0200
TZNAME:CEST
DTSTART:20250330T010000
END:DAYLIGHT
BEGIN:STANDARD
TZOFFSETFROM:+0200
TZOFFSETTO:+0100
TZNAME:CET
DTSTART:20251026T010000
END:STANDARD
BEGIN:DAYLIGHT
TZOFFSETFROM:+0100
TZOFFSETTO:+0200
TZNAME:CEST
DTSTART:20260329T010000
END:DAYLIGHT
BEGIN:STANDARD
TZOFFSETFROM:+0200
TZOFFSETTO:+0100
TZNAME:CET
DTSTART:20261025T010000
END:STANDARD
BEGIN:DAYLIGHT
TZOFFSETFROM:+0100
TZOFFSETTO:+0200
TZNAME:CEST
DTSTART:20270328T010000
END:DAYLIGHT
BEGIN:STANDARD
TZOFFSETFROM:+0200
TZOFFSETTO:+0100
TZNAME:CET
DTSTART:20271031T010000
END:STANDARD
END:VTIMEZONE
BEGIN:VEVENT
DTSTART;TZID=Europe/Berlin:20260202T094500
DTEND;TZID=Europe/Berlin:20260202T104500
DTSTAMP:20260423T183336
CREATED:20250701T090759Z
LAST-MODIFIED:20250701T090759Z
UID:10002449-1770025500-1770029100@soziokulturelles-zentrum.de
SUMMARY:Krabbelgruppe
DESCRIPTION:
URL:https://soziokulturelles-zentrum.de/event/krabbelgruppe/2026-02-02/
LOCATION:Mehrzweckraum\, Kosebruchweg 14\, Delitzsch\, Sachsen\, 04509\, Germany
CATEGORIES:Kurse / Workshops
ATTACH;FMTTYPE=image/png:https://soziokulturelles-zentrum.de/wp-content/uploads/2025/07/Krabbelgruppe.png
END:VEVENT
BEGIN:VEVENT
DTSTART;TZID=Europe/Berlin:20260202T130000
DTEND;TZID=Europe/Berlin:20260202T153000
DTSTAMP:20260423T183336
CREATED:20250604T114657Z
LAST-MODIFIED:20250707T114048Z
UID:10000533-1770037200-1770046200@soziokulturelles-zentrum.de
SUMMARY:offener Handarbeits-Treff
DESCRIPTION:Bei unserem Handarbeitskurs sind alle willkommen – gern auch jüngere Interessierte ohne Vorkenntnisse. \nDas Team lernt Anfänger an und gibt Tipps und Tricks weiter. Ein Einstieg ist jederzeit möglich. Aktuell suchen wir Verstärkung. \n 
URL:https://soziokulturelles-zentrum.de/event/offener-handarbeits-treff-2/2026-02-02/
LOCATION:Begegnungsstätte\, Kosebruchweg 14\, Delitzsch\, Sachsen\, 04509\, Deutschland
ATTACH;FMTTYPE=image/png:https://soziokulturelles-zentrum.de/wp-content/uploads/2025/07/Handarbeitstreff-Facebook-Beitrag.png
END:VEVENT
BEGIN:VEVENT
DTSTART;TZID=Europe/Berlin:20260202T150000
DTEND;TZID=Europe/Berlin:20260202T163000
DTSTAMP:20260423T183336
CREATED:20250905T120347Z
LAST-MODIFIED:20250905T120347Z
UID:10002706-1770044400-1770049800@soziokulturelles-zentrum.de
SUMMARY:Schlaumeierkurs
DESCRIPTION:jeden Montag (ab 20.10.25) von 15 – 16.30 Uhr außer in den sächsischen Ferien.
URL:https://soziokulturelles-zentrum.de/event/schlaumeierkurs/2026-02-02/
LOCATION:Mehrzweckraum\, Kosebruchweg 14\, Delitzsch\, Sachsen\, 04509\, Germany
CATEGORIES:Kurse / Workshops
ATTACH;FMTTYPE=image/png:https://soziokulturelles-zentrum.de/wp-content/uploads/2025/09/Schlaumeierkurs.png
END:VEVENT
BEGIN:VEVENT
DTSTART;TZID=Europe/Berlin:20260202T160000
DTEND;TZID=Europe/Berlin:20260202T170000
DTSTAMP:20260423T183336
CREATED:20250701T090619Z
LAST-MODIFIED:20250701T090619Z
UID:10002192-1770048000-1770051600@soziokulturelles-zentrum.de
SUMMARY:Yoga-Kurs
DESCRIPTION:montags\, 09:45 – 10:45 Uhr & 16:00 – 17:00 Uhr
URL:https://soziokulturelles-zentrum.de/event/hatha-yoga-2/2026-02-02/
LOCATION:Mehrzweckraum\, Kosebruchweg 14\, Delitzsch\, Sachsen\, 04509\, Germany
CATEGORIES:Kurse / Workshops
ATTACH;FMTTYPE=image/png:https://soziokulturelles-zentrum.de/wp-content/uploads/2025/07/YOGA.png
END:VEVENT
END:VCALENDAR