BEGIN:VCALENDAR
VERSION:2.0
PRODID:-//Soziokulturelles Zentrum e.V. - ECPv6.15.20//NONSGML v1.0//EN
CALSCALE:GREGORIAN
METHOD:PUBLISH
X-ORIGINAL-URL:https://soziokulturelles-zentrum.de
X-WR-CALDESC:Veranstaltungen für Soziokulturelles Zentrum e.V.
REFRESH-INTERVAL;VALUE=DURATION:PT1H
X-Robots-Tag:noindex
X-PUBLISHED-TTL:PT1H
BEGIN:VTIMEZONE
TZID:Europe/Berlin
BEGIN:DAYLIGHT
TZOFFSETFROM:+0100
TZOFFSETTO:+0200
TZNAME:CEST
DTSTART:20240331T010000
END:DAYLIGHT
BEGIN:STANDARD
TZOFFSETFROM:+0200
TZOFFSETTO:+0100
TZNAME:CET
DTSTART:20241027T010000
END:STANDARD
BEGIN:DAYLIGHT
TZOFFSETFROM:+0100
TZOFFSETTO:+0200
TZNAME:CEST
DTSTART:20250330T010000
END:DAYLIGHT
BEGIN:STANDARD
TZOFFSETFROM:+0200
TZOFFSETTO:+0100
TZNAME:CET
DTSTART:20251026T010000
END:STANDARD
BEGIN:DAYLIGHT
TZOFFSETFROM:+0100
TZOFFSETTO:+0200
TZNAME:CEST
DTSTART:20260329T010000
END:DAYLIGHT
BEGIN:STANDARD
TZOFFSETFROM:+0200
TZOFFSETTO:+0100
TZNAME:CET
DTSTART:20261025T010000
END:STANDARD
END:VTIMEZONE
BEGIN:VEVENT
DTSTART;TZID=Europe/Berlin:20250606T160000
DTEND;TZID=Europe/Berlin:20250606T200000
DTSTAMP:20260421T105650
CREATED:20250430T101123Z
LAST-MODIFIED:20250430T101123Z
UID:10001736-1749225600-1749240000@soziokulturelles-zentrum.de
SUMMARY:Inklusive Tanzparty
DESCRIPTION:
URL:https://soziokulturelles-zentrum.de/event/inklusive-tanzparty/
LOCATION:Außengelände Kosebruchweg\, Kosebruchweg 14\, Delitzsch\, Sachsen\, 04509\, Deutschland
ATTACH;FMTTYPE=image/png:https://soziokulturelles-zentrum.de/wp-content/uploads/2025/04/inklusiver-Tanzabend-scaled.png
END:VEVENT
END:VCALENDAR