BEGIN:VCALENDAR
VERSION:2.0
PRODID:-//Soziokulturelles Zentrum e.V. - ECPv6.15.20//NONSGML v1.0//EN
CALSCALE:GREGORIAN
METHOD:PUBLISH
X-WR-CALNAME:Soziokulturelles Zentrum e.V.
X-ORIGINAL-URL:https://soziokulturelles-zentrum.de
X-WR-CALDESC:Veranstaltungen für Soziokulturelles Zentrum e.V.
REFRESH-INTERVAL;VALUE=DURATION:PT1H
X-Robots-Tag:noindex
X-PUBLISHED-TTL:PT1H
BEGIN:VTIMEZONE
TZID:Europe/Berlin
BEGIN:DAYLIGHT
TZOFFSETFROM:+0100
TZOFFSETTO:+0200
TZNAME:CEST
DTSTART:20230326T010000
END:DAYLIGHT
BEGIN:STANDARD
TZOFFSETFROM:+0200
TZOFFSETTO:+0100
TZNAME:CET
DTSTART:20231029T010000
END:STANDARD
BEGIN:DAYLIGHT
TZOFFSETFROM:+0100
TZOFFSETTO:+0200
TZNAME:CEST
DTSTART:20240331T010000
END:DAYLIGHT
BEGIN:STANDARD
TZOFFSETFROM:+0200
TZOFFSETTO:+0100
TZNAME:CET
DTSTART:20241027T010000
END:STANDARD
BEGIN:DAYLIGHT
TZOFFSETFROM:+0100
TZOFFSETTO:+0200
TZNAME:CEST
DTSTART:20250330T010000
END:DAYLIGHT
BEGIN:STANDARD
TZOFFSETFROM:+0200
TZOFFSETTO:+0100
TZNAME:CET
DTSTART:20251026T010000
END:STANDARD
END:VTIMEZONE
BEGIN:VEVENT
DTSTART;TZID=Europe/Berlin:20241109T100000
DTEND;TZID=Europe/Berlin:20241109T160000
DTSTAMP:20260420T042835
CREATED:20240722T071119Z
LAST-MODIFIED:20240805T113917Z
UID:10001238-1731146400-1731168000@soziokulturelles-zentrum.de
SUMMARY:Großer Kinderflohmarkt
DESCRIPTION:Kinderflohmarkt \n\n\n\nLiebe Familien\, markiert euch den Termin im Kalender! Wir veranstalten einen fröhlichen Kinderflohmarkt\, bei dem ihr die Gelegenheit habt\, gebrauchte Spielsachen\, Kinderkleidung und vieles mehr zu kaufen und zu verkaufen.\n\n\n\n Wann?: 09. November 2024 – 10 bis 16 Uhr\n Wo?: Kosebruchweg 14\, 04509 Delitzsch\n\n\n\nWer selber verkaufen möchte\, den bitten wir um vorherige Anmeldung unter flohmarkt@soziokulturelles-zentrum.de. Vielen Dank.\n\n\n\nWir freuen uns auf euch!
URL:https://soziokulturelles-zentrum.de/event/grosser-kinderflohmarkt-2/
LOCATION:Begegnungsstätte\, Kosebruchweg 14\, Delitzsch\, Sachsen\, 04509\, Deutschland
END:VEVENT
END:VCALENDAR