BEGIN:VCALENDAR
VERSION:2.0
PRODID:-//Soziokulturelles Zentrum e.V. - ECPv6.15.20//NONSGML v1.0//EN
CALSCALE:GREGORIAN
METHOD:PUBLISH
X-WR-CALNAME:Soziokulturelles Zentrum e.V.
X-ORIGINAL-URL:https://soziokulturelles-zentrum.de
X-WR-CALDESC:Veranstaltungen für Soziokulturelles Zentrum e.V.
REFRESH-INTERVAL;VALUE=DURATION:PT1H
X-Robots-Tag:noindex
X-PUBLISHED-TTL:PT1H
BEGIN:VTIMEZONE
TZID:Europe/Berlin
BEGIN:DAYLIGHT
TZOFFSETFROM:+0100
TZOFFSETTO:+0200
TZNAME:CEST
DTSTART:20250330T010000
END:DAYLIGHT
BEGIN:STANDARD
TZOFFSETFROM:+0200
TZOFFSETTO:+0100
TZNAME:CET
DTSTART:20251026T010000
END:STANDARD
BEGIN:DAYLIGHT
TZOFFSETFROM:+0100
TZOFFSETTO:+0200
TZNAME:CEST
DTSTART:20260329T010000
END:DAYLIGHT
BEGIN:STANDARD
TZOFFSETFROM:+0200
TZOFFSETTO:+0100
TZNAME:CET
DTSTART:20261025T010000
END:STANDARD
BEGIN:DAYLIGHT
TZOFFSETFROM:+0100
TZOFFSETTO:+0200
TZNAME:CEST
DTSTART:20270328T010000
END:DAYLIGHT
BEGIN:STANDARD
TZOFFSETFROM:+0200
TZOFFSETTO:+0100
TZNAME:CET
DTSTART:20271031T010000
END:STANDARD
END:VTIMEZONE
BEGIN:VEVENT
DTSTART;TZID=Europe/Berlin:20260721T090000
DTEND;TZID=Europe/Berlin:20260721T120000
DTSTAMP:20260419T165024
CREATED:20260129T115750Z
LAST-MODIFIED:20260129T115750Z
UID:10002884-1784624400-1784635200@soziokulturelles-zentrum.de
SUMMARY:Nähkurs für Kinder
DESCRIPTION:
URL:https://soziokulturelles-zentrum.de/event/naehkurs-fuer-kinder-2/2026-07-21/
LOCATION:Stoffwechsel\, Amselweg 5\, Delitzsch\, Sachsen\, 04509
CATEGORIES:Kurse / Workshops
ATTACH;FMTTYPE=image/png:https://soziokulturelles-zentrum.de/wp-content/uploads/2026/01/Sommerferien.png
END:VEVENT
BEGIN:VEVENT
DTSTART;TZID=Europe/Berlin:20260722T090000
DTEND;TZID=Europe/Berlin:20260722T120000
DTSTAMP:20260419T165024
CREATED:20260129T115750Z
LAST-MODIFIED:20260129T115750Z
UID:10002885-1784710800-1784721600@soziokulturelles-zentrum.de
SUMMARY:Nähkurs für Kinder
DESCRIPTION:
URL:https://soziokulturelles-zentrum.de/event/naehkurs-fuer-kinder-2/2026-07-22/
LOCATION:Stoffwechsel\, Amselweg 5\, Delitzsch\, Sachsen\, 04509
CATEGORIES:Kurse / Workshops
ATTACH;FMTTYPE=image/png:https://soziokulturelles-zentrum.de/wp-content/uploads/2026/01/Sommerferien.png
END:VEVENT
BEGIN:VEVENT
DTSTART;TZID=Europe/Berlin:20260728T090000
DTEND;TZID=Europe/Berlin:20260728T120000
DTSTAMP:20260419T165024
CREATED:20260129T115750Z
LAST-MODIFIED:20260129T115750Z
UID:10002886-1785229200-1785240000@soziokulturelles-zentrum.de
SUMMARY:Nähkurs für Kinder
DESCRIPTION:
URL:https://soziokulturelles-zentrum.de/event/naehkurs-fuer-kinder-2/2026-07-28/
LOCATION:Stoffwechsel\, Amselweg 5\, Delitzsch\, Sachsen\, 04509
CATEGORIES:Kurse / Workshops
ATTACH;FMTTYPE=image/png:https://soziokulturelles-zentrum.de/wp-content/uploads/2026/01/Sommerferien.png
END:VEVENT
BEGIN:VEVENT
DTSTART;TZID=Europe/Berlin:20260729T090000
DTEND;TZID=Europe/Berlin:20260729T120000
DTSTAMP:20260419T165024
CREATED:20260129T115750Z
LAST-MODIFIED:20260129T115750Z
UID:10002887-1785315600-1785326400@soziokulturelles-zentrum.de
SUMMARY:Nähkurs für Kinder
DESCRIPTION:
URL:https://soziokulturelles-zentrum.de/event/naehkurs-fuer-kinder-2/2026-07-29/
LOCATION:Stoffwechsel\, Amselweg 5\, Delitzsch\, Sachsen\, 04509
CATEGORIES:Kurse / Workshops
ATTACH;FMTTYPE=image/png:https://soziokulturelles-zentrum.de/wp-content/uploads/2026/01/Sommerferien.png
END:VEVENT
END:VCALENDAR